BEGIN:VCALENDAR
VERSION:2.0
PRODID:-//Town of Delisle - ECPv6.15.17.1//NONSGML v1.0//EN
CALSCALE:GREGORIAN
METHOD:PUBLISH
X-ORIGINAL-URL:https://townofdelisle.com
X-WR-CALDESC:Events for Town of Delisle
REFRESH-INTERVAL;VALUE=DURATION:PT1H
X-Robots-Tag:noindex
X-PUBLISHED-TTL:PT1H
BEGIN:VTIMEZONE
TZID:America/Regina
BEGIN:STANDARD
TZOFFSETFROM:-0600
TZOFFSETTO:-0600
TZNAME:CST
DTSTART:20230101T000000
END:STANDARD
END:VTIMEZONE
BEGIN:VEVENT
DTSTART;TZID=America/Regina:20250905T180000
DTEND;TZID=America/Regina:20250905T180000
DTSTAMP:20260419T070923
CREATED:20250812T161803Z
LAST-MODIFIED:20250826T194600Z
UID:10000608-1757095200-1757095200@townofdelisle.com
SUMMARY:Movie Night - ELIO
DESCRIPTION:2025 MOVIE NIGHT – 1
URL:https://townofdelisle.com/event/the-wild-robot-movie-night/
LOCATION:Delisle Curling Rink
CATEGORIES:Community Event,Rec Event
END:VEVENT
BEGIN:VEVENT
DTSTART;VALUE=DATE:20250208
DTEND;VALUE=DATE:20250209
DTSTAMP:20260419T070923
CREATED:20241231T203526Z
LAST-MODIFIED:20241231T203526Z
UID:10000499-1738972800-1739059199@townofdelisle.com
SUMMARY:Doubles Bonspiel
DESCRIPTION:
URL:https://townofdelisle.com/event/doubles-bonspiel/
LOCATION:Delisle Curling Rink
CATEGORIES:Community Event,Rec Event
END:VEVENT
BEGIN:VEVENT
DTSTART;TZID=America/Regina:20241116T100000
DTEND;TZID=America/Regina:20241116T150000
DTSTAMP:20260419T070923
CREATED:20240927T170548Z
LAST-MODIFIED:20241112T165711Z
UID:10000360-1731751200-1731769200@townofdelisle.com
SUMMARY:Skate Delisle's Annual Craft & Trade Show
DESCRIPTION:
URL:https://townofdelisle.com/event/skate-delisles-annual-craft-trade-show/
LOCATION:Delisle Curling Rink
CATEGORIES:Community Event,Rec Event
END:VEVENT
BEGIN:VEVENT
DTSTART;TZID=America/Regina:20240906T190000
DTEND;TZID=America/Regina:20240906T220000
DTSTAMP:20260419T070923
CREATED:20240827T195835Z
LAST-MODIFIED:20240827T195835Z
UID:10000345-1725649200-1725660000@townofdelisle.com
SUMMARY:Family Movie Night
DESCRIPTION:
URL:https://townofdelisle.com/event/family-movie-night/
LOCATION:Delisle Curling Rink
CATEGORIES:Community Event,Rec Event
END:VEVENT
END:VCALENDAR