BEGIN:VCALENDAR
VERSION:2.0
PRODID:-//Town of Delisle - ECPv6.15.17.1//NONSGML v1.0//EN
CALSCALE:GREGORIAN
METHOD:PUBLISH
X-WR-CALNAME:Town of Delisle
X-ORIGINAL-URL:https://townofdelisle.com
X-WR-CALDESC:Events for Town of Delisle
REFRESH-INTERVAL;VALUE=DURATION:PT1H
X-Robots-Tag:noindex
X-PUBLISHED-TTL:PT1H
BEGIN:VTIMEZONE
TZID:America/Regina
BEGIN:STANDARD
TZOFFSETFROM:-0600
TZOFFSETTO:-0600
TZNAME:CST
DTSTART:20250101T000000
END:STANDARD
END:VTIMEZONE
BEGIN:VEVENT
DTSTART;TZID=America/Regina:20260813T093000
DTEND;TZID=America/Regina:20260813T093000
DTSTAMP:20260419T065326
CREATED:20260107T163825Z
LAST-MODIFIED:20260107T164858Z
UID:10000686-1786613400-1786613400@townofdelisle.com
SUMMARY:Exercise Program
DESCRIPTION:
URL:https://townofdelisle.com/event/exercise-program/2026-08-13/
LOCATION:Delisle Community Centre
CATEGORIES:Other
END:VEVENT
BEGIN:VEVENT
DTSTART;TZID=America/Regina:20260813T190000
DTEND;TZID=America/Regina:20260813T220000
DTSTAMP:20260419T065326
CREATED:20241211T150336Z
LAST-MODIFIED:20241211T150541Z
UID:10000459-1786647600-1786658400@townofdelisle.com
SUMMARY:Town Council Meeting
DESCRIPTION:Council Meetings of the Town of Delisle are held in the Town Office on the second Thursday of every month. 
URL:https://townofdelisle.com/event/town-council-meeting-2-3/2026-08-13/
CATEGORIES:Community Event
END:VEVENT
BEGIN:VEVENT
DTSTART;TZID=America/Regina:20260817T093000
DTEND;TZID=America/Regina:20260817T093000
DTSTAMP:20260419T065326
CREATED:20260107T163825Z
LAST-MODIFIED:20260107T164858Z
UID:10000687-1786959000-1786959000@townofdelisle.com
SUMMARY:Exercise Program
DESCRIPTION:
URL:https://townofdelisle.com/event/exercise-program/2026-08-17/
LOCATION:Delisle Community Centre
CATEGORIES:Other
END:VEVENT
BEGIN:VEVENT
DTSTART;VALUE=DATE:20260820
DTEND;VALUE=DATE:20260821
DTSTAMP:20260419T065326
CREATED:20260416T200231Z
LAST-MODIFIED:20260416T200231Z
UID:10001186-1787184000-1787270399@townofdelisle.com
SUMMARY:Garbage
DESCRIPTION:
URL:https://townofdelisle.com/event/garbage-15/
CATEGORIES:Other
END:VEVENT
BEGIN:VEVENT
DTSTART;TZID=America/Regina:20260820T093000
DTEND;TZID=America/Regina:20260820T093000
DTSTAMP:20260419T065326
CREATED:20260107T163825Z
LAST-MODIFIED:20260107T164858Z
UID:10000688-1787218200-1787218200@townofdelisle.com
SUMMARY:Exercise Program
DESCRIPTION:
URL:https://townofdelisle.com/event/exercise-program/2026-08-20/
LOCATION:Delisle Community Centre
CATEGORIES:Other
END:VEVENT
BEGIN:VEVENT
DTSTART;VALUE=DATE:20260822
DTEND;VALUE=DATE:20260823
DTSTAMP:20260419T065326
CREATED:20250424T164445Z
LAST-MODIFIED:20250424T164445Z
UID:10000543-1787356800-1787443199@townofdelisle.com
SUMMARY:Craft and Chat
DESCRIPTION:
URL:https://townofdelisle.com/event/craft-and-chat-2/2026-08-22/
CATEGORIES:Community Event,Rec Event
END:VEVENT
BEGIN:VEVENT
DTSTART;TZID=America/Regina:20260824T093000
DTEND;TZID=America/Regina:20260824T093000
DTSTAMP:20260419T065326
CREATED:20260107T163825Z
LAST-MODIFIED:20260107T164858Z
UID:10000689-1787563800-1787563800@townofdelisle.com
SUMMARY:Exercise Program
DESCRIPTION:
URL:https://townofdelisle.com/event/exercise-program/2026-08-24/
LOCATION:Delisle Community Centre
CATEGORIES:Other
END:VEVENT
BEGIN:VEVENT
DTSTART;VALUE=DATE:20260827
DTEND;VALUE=DATE:20260828
DTSTAMP:20260419T065326
CREATED:20260416T200924Z
LAST-MODIFIED:20260416T200924Z
UID:10001187-1787788800-1787875199@townofdelisle.com
SUMMARY:Recycle
DESCRIPTION:
URL:https://townofdelisle.com/event/recycle-16/
CATEGORIES:Other
END:VEVENT
BEGIN:VEVENT
DTSTART;TZID=America/Regina:20260827T093000
DTEND;TZID=America/Regina:20260827T093000
DTSTAMP:20260419T065326
CREATED:20260107T163825Z
LAST-MODIFIED:20260107T164858Z
UID:10000690-1787823000-1787823000@townofdelisle.com
SUMMARY:Exercise Program
DESCRIPTION:
URL:https://townofdelisle.com/event/exercise-program/2026-08-27/
LOCATION:Delisle Community Centre
CATEGORIES:Other
END:VEVENT
BEGIN:VEVENT
DTSTART;TZID=America/Regina:20260831T093000
DTEND;TZID=America/Regina:20260831T093000
DTSTAMP:20260419T065326
CREATED:20260107T163825Z
LAST-MODIFIED:20260107T164858Z
UID:10000691-1788168600-1788168600@townofdelisle.com
SUMMARY:Exercise Program
DESCRIPTION:
URL:https://townofdelisle.com/event/exercise-program/2026-08-31/
LOCATION:Delisle Community Centre
CATEGORIES:Other
END:VEVENT
BEGIN:VEVENT
DTSTART;VALUE=DATE:20260903
DTEND;VALUE=DATE:20260904
DTSTAMP:20260419T065326
CREATED:20260417T155443Z
LAST-MODIFIED:20260417T155443Z
UID:10001188-1788393600-1788479999@townofdelisle.com
SUMMARY:Garbage
DESCRIPTION:
URL:https://townofdelisle.com/event/garbage-16/
CATEGORIES:Other
END:VEVENT
BEGIN:VEVENT
DTSTART;TZID=America/Regina:20260903T093000
DTEND;TZID=America/Regina:20260903T093000
DTSTAMP:20260419T065326
CREATED:20260107T163825Z
LAST-MODIFIED:20260107T164858Z
UID:10000692-1788427800-1788427800@townofdelisle.com
SUMMARY:Exercise Program
DESCRIPTION:
URL:https://townofdelisle.com/event/exercise-program/2026-09-03/
LOCATION:Delisle Community Centre
CATEGORIES:Other
END:VEVENT
BEGIN:VEVENT
DTSTART;TZID=America/Regina:20260907T093000
DTEND;TZID=America/Regina:20260907T093000
DTSTAMP:20260419T065326
CREATED:20260107T163825Z
LAST-MODIFIED:20260107T164858Z
UID:10000693-1788773400-1788773400@townofdelisle.com
SUMMARY:Exercise Program
DESCRIPTION:
URL:https://townofdelisle.com/event/exercise-program/2026-09-07/
LOCATION:Delisle Community Centre
CATEGORIES:Other
END:VEVENT
BEGIN:VEVENT
DTSTART;VALUE=DATE:20260910
DTEND;VALUE=DATE:20260911
DTSTAMP:20260419T065326
CREATED:20260417T160550Z
LAST-MODIFIED:20260417T160620Z
UID:10001189-1788998400-1789084799@townofdelisle.com
SUMMARY:Recycle
DESCRIPTION:
URL:https://townofdelisle.com/event/recycle-17/
CATEGORIES:Other
END:VEVENT
BEGIN:VEVENT
DTSTART;TZID=America/Regina:20260910T093000
DTEND;TZID=America/Regina:20260910T093000
DTSTAMP:20260419T065326
CREATED:20260107T163825Z
LAST-MODIFIED:20260107T164858Z
UID:10000694-1789032600-1789032600@townofdelisle.com
SUMMARY:Exercise Program
DESCRIPTION:
URL:https://townofdelisle.com/event/exercise-program/2026-09-10/
LOCATION:Delisle Community Centre
CATEGORIES:Other
END:VEVENT
BEGIN:VEVENT
DTSTART;TZID=America/Regina:20260910T190000
DTEND;TZID=America/Regina:20260910T220000
DTSTAMP:20260419T065326
CREATED:20241211T150336Z
LAST-MODIFIED:20241211T150541Z
UID:10000460-1789066800-1789077600@townofdelisle.com
SUMMARY:Town Council Meeting
DESCRIPTION:Council Meetings of the Town of Delisle are held in the Town Office on the second Thursday of every month. 
URL:https://townofdelisle.com/event/town-council-meeting-2-3/2026-09-10/
CATEGORIES:Community Event
END:VEVENT
BEGIN:VEVENT
DTSTART;TZID=America/Regina:20260914T093000
DTEND;TZID=America/Regina:20260914T093000
DTSTAMP:20260419T065326
CREATED:20260107T163825Z
LAST-MODIFIED:20260107T164858Z
UID:10000695-1789378200-1789378200@townofdelisle.com
SUMMARY:Exercise Program
DESCRIPTION:
URL:https://townofdelisle.com/event/exercise-program/2026-09-14/
LOCATION:Delisle Community Centre
CATEGORIES:Other
END:VEVENT
BEGIN:VEVENT
DTSTART;VALUE=DATE:20260917
DTEND;VALUE=DATE:20260918
DTSTAMP:20260419T065326
CREATED:20260417T160658Z
LAST-MODIFIED:20260417T160724Z
UID:10001190-1789603200-1789689599@townofdelisle.com
SUMMARY:Garbage
DESCRIPTION:
URL:https://townofdelisle.com/event/garbage-17/
CATEGORIES:Other
END:VEVENT
BEGIN:VEVENT
DTSTART;TZID=America/Regina:20260917T093000
DTEND;TZID=America/Regina:20260917T093000
DTSTAMP:20260419T065326
CREATED:20260107T163825Z
LAST-MODIFIED:20260107T164858Z
UID:10000696-1789637400-1789637400@townofdelisle.com
SUMMARY:Exercise Program
DESCRIPTION:
URL:https://townofdelisle.com/event/exercise-program/2026-09-17/
LOCATION:Delisle Community Centre
CATEGORIES:Other
END:VEVENT
BEGIN:VEVENT
DTSTART;TZID=America/Regina:20260921T093000
DTEND;TZID=America/Regina:20260921T093000
DTSTAMP:20260419T065326
CREATED:20260107T163825Z
LAST-MODIFIED:20260107T164858Z
UID:10000697-1789983000-1789983000@townofdelisle.com
SUMMARY:Exercise Program
DESCRIPTION:
URL:https://townofdelisle.com/event/exercise-program/2026-09-21/
LOCATION:Delisle Community Centre
CATEGORIES:Other
END:VEVENT
BEGIN:VEVENT
DTSTART;VALUE=DATE:20260924
DTEND;VALUE=DATE:20260925
DTSTAMP:20260419T065326
CREATED:20260417T160758Z
LAST-MODIFIED:20260417T160758Z
UID:10001191-1790208000-1790294399@townofdelisle.com
SUMMARY:Recycle
DESCRIPTION:
URL:https://townofdelisle.com/event/recycle-18/
CATEGORIES:Other
END:VEVENT
BEGIN:VEVENT
DTSTART;TZID=America/Regina:20260924T093000
DTEND;TZID=America/Regina:20260924T093000
DTSTAMP:20260419T065326
CREATED:20260107T163825Z
LAST-MODIFIED:20260107T164858Z
UID:10000698-1790242200-1790242200@townofdelisle.com
SUMMARY:Exercise Program
DESCRIPTION:
URL:https://townofdelisle.com/event/exercise-program/2026-09-24/
LOCATION:Delisle Community Centre
CATEGORIES:Other
END:VEVENT
BEGIN:VEVENT
DTSTART;VALUE=DATE:20260926
DTEND;VALUE=DATE:20260927
DTSTAMP:20260419T065326
CREATED:20250424T164445Z
LAST-MODIFIED:20250424T164445Z
UID:10000544-1790380800-1790467199@townofdelisle.com
SUMMARY:Craft and Chat
DESCRIPTION:
URL:https://townofdelisle.com/event/craft-and-chat-2/2026-09-26/
CATEGORIES:Community Event,Rec Event
END:VEVENT
BEGIN:VEVENT
DTSTART;TZID=America/Regina:20260928T093000
DTEND;TZID=America/Regina:20260928T093000
DTSTAMP:20260419T065326
CREATED:20260107T163825Z
LAST-MODIFIED:20260107T164858Z
UID:10000699-1790587800-1790587800@townofdelisle.com
SUMMARY:Exercise Program
DESCRIPTION:
URL:https://townofdelisle.com/event/exercise-program/2026-09-28/
LOCATION:Delisle Community Centre
CATEGORIES:Other
END:VEVENT
BEGIN:VEVENT
DTSTART;VALUE=DATE:20261001
DTEND;VALUE=DATE:20261002
DTSTAMP:20260419T065326
CREATED:20260417T160837Z
LAST-MODIFIED:20260417T160837Z
UID:10001192-1790812800-1790899199@townofdelisle.com
SUMMARY:Garbage
DESCRIPTION:
URL:https://townofdelisle.com/event/garbage-18/
CATEGORIES:Other
END:VEVENT
BEGIN:VEVENT
DTSTART;TZID=America/Regina:20261001T093000
DTEND;TZID=America/Regina:20261001T093000
DTSTAMP:20260419T065326
CREATED:20260107T163825Z
LAST-MODIFIED:20260107T164858Z
UID:10000700-1790847000-1790847000@townofdelisle.com
SUMMARY:Exercise Program
DESCRIPTION:
URL:https://townofdelisle.com/event/exercise-program/2026-10-01/
LOCATION:Delisle Community Centre
CATEGORIES:Other
END:VEVENT
BEGIN:VEVENT
DTSTART;TZID=America/Regina:20261005T093000
DTEND;TZID=America/Regina:20261005T093000
DTSTAMP:20260419T065326
CREATED:20260107T163825Z
LAST-MODIFIED:20260107T164858Z
UID:10000701-1791192600-1791192600@townofdelisle.com
SUMMARY:Exercise Program
DESCRIPTION:
URL:https://townofdelisle.com/event/exercise-program/2026-10-05/
LOCATION:Delisle Community Centre
CATEGORIES:Other
END:VEVENT
BEGIN:VEVENT
DTSTART;VALUE=DATE:20261008
DTEND;VALUE=DATE:20261009
DTSTAMP:20260419T065326
CREATED:20260417T160945Z
LAST-MODIFIED:20260417T160945Z
UID:10001193-1791417600-1791503999@townofdelisle.com
SUMMARY:Recycle
DESCRIPTION:
URL:https://townofdelisle.com/event/recycle-19/
CATEGORIES:Other
END:VEVENT
BEGIN:VEVENT
DTSTART;TZID=America/Regina:20261008T093000
DTEND;TZID=America/Regina:20261008T093000
DTSTAMP:20260419T065326
CREATED:20260107T163825Z
LAST-MODIFIED:20260107T164858Z
UID:10000702-1791451800-1791451800@townofdelisle.com
SUMMARY:Exercise Program
DESCRIPTION:
URL:https://townofdelisle.com/event/exercise-program/2026-10-08/
LOCATION:Delisle Community Centre
CATEGORIES:Other
END:VEVENT
BEGIN:VEVENT
DTSTART;TZID=America/Regina:20261008T190000
DTEND;TZID=America/Regina:20261008T220000
DTSTAMP:20260419T065326
CREATED:20241211T150336Z
LAST-MODIFIED:20241211T150541Z
UID:10000461-1791486000-1791496800@townofdelisle.com
SUMMARY:Town Council Meeting
DESCRIPTION:Council Meetings of the Town of Delisle are held in the Town Office on the second Thursday of every month. 
URL:https://townofdelisle.com/event/town-council-meeting-2-3/2026-10-08/
CATEGORIES:Community Event
END:VEVENT
END:VCALENDAR