BEGIN:VCALENDAR
VERSION:2.0
PRODID:-//Town of Delisle - ECPv6.15.17.1//NONSGML v1.0//EN
CALSCALE:GREGORIAN
METHOD:PUBLISH
X-WR-CALNAME:Town of Delisle
X-ORIGINAL-URL:https://townofdelisle.com
X-WR-CALDESC:Events for Town of Delisle
REFRESH-INTERVAL;VALUE=DURATION:PT1H
X-Robots-Tag:noindex
X-PUBLISHED-TTL:PT1H
BEGIN:VTIMEZONE
TZID:America/Regina
BEGIN:STANDARD
TZOFFSETFROM:-0600
TZOFFSETTO:-0600
TZNAME:CST
DTSTART:20230101T000000
END:STANDARD
END:VTIMEZONE
BEGIN:VEVENT
DTSTART;TZID=America/Regina:20241130T140000
DTEND;TZID=America/Regina:20241130T160000
DTSTAMP:20260419T123247
CREATED:20241120T171143Z
LAST-MODIFIED:20241120T171143Z
UID:10000374-1732975200-1732982400@townofdelisle.com
SUMMARY:Christmas Tea & Bake Sale
DESCRIPTION:
URL:https://townofdelisle.com/event/christmas-tea-bake-sale/
LOCATION:Delisle-Vanscoy United Church
CATEGORIES:Community Event,Rec Event
END:VEVENT
BEGIN:VEVENT
DTSTART;TZID=America/Regina:20241116T183000
DTEND;TZID=America/Regina:20241116T183000
DTSTAMP:20260419T123247
CREATED:20240927T170812Z
LAST-MODIFIED:20240927T171414Z
UID:10000361-1731781800-1731781800@townofdelisle.com
SUMMARY:Turkey Bingo - Ag Society
DESCRIPTION:Turkey Bingo at the Delisle Town Hall following the Craft Sale
URL:https://townofdelisle.com/event/turkey-bingo-ag-society/
LOCATION:Delisle Town  Hall
CATEGORIES:Community Event,Rec Event
END:VEVENT
BEGIN:VEVENT
DTSTART;TZID=America/Regina:20241116T100000
DTEND;TZID=America/Regina:20241116T150000
DTSTAMP:20260419T123247
CREATED:20240927T170548Z
LAST-MODIFIED:20241112T165711Z
UID:10000360-1731751200-1731769200@townofdelisle.com
SUMMARY:Skate Delisle's Annual Craft & Trade Show
DESCRIPTION:
URL:https://townofdelisle.com/event/skate-delisles-annual-craft-trade-show/
LOCATION:Delisle Curling Rink
CATEGORIES:Community Event,Rec Event
END:VEVENT
BEGIN:VEVENT
DTSTART;TZID=America/Regina:20241101T200000
DTEND;TZID=America/Regina:20241102T010000
DTSTAMP:20260419T123247
CREATED:20240910T172147Z
LAST-MODIFIED:20240924T191827Z
UID:10000355-1730491200-1730509200@townofdelisle.com
SUMMARY:Adult Halloween Party
DESCRIPTION:
URL:https://townofdelisle.com/event/adult-halloween-party/
LOCATION:Delisle Town Hall
CATEGORIES:Community Event,Rec Event
END:VEVENT
BEGIN:VEVENT
DTSTART;TZID=America/Regina:20241101T170000
DTEND;TZID=America/Regina:20241101T190000
DTSTAMP:20260419T123247
CREATED:20240910T171520Z
LAST-MODIFIED:20240910T171520Z
UID:10000354-1730480400-1730487600@townofdelisle.com
SUMMARY:Kids Halloween Party
DESCRIPTION:
URL:https://townofdelisle.com/event/kids-halloween-party/
LOCATION:Delisle Town Hall
CATEGORIES:Community Event,Rec Event
END:VEVENT
BEGIN:VEVENT
DTSTART;TZID=America/Regina:20241020T190000
DTEND;TZID=America/Regina:20241020T190000
DTSTAMP:20260419T123247
CREATED:20240927T165907Z
LAST-MODIFIED:20240927T170018Z
UID:10000359-1729450800-1729450800@townofdelisle.com
SUMMARY:Delisle Curling Club - AGM
DESCRIPTION:AGM in the Delisle Curling Lounge
URL:https://townofdelisle.com/event/delisle-curling-club-agm/
LOCATION:Delisle Curling Rink Lounge
CATEGORIES:Community Event,Rec Event
END:VEVENT
BEGIN:VEVENT
DTSTART;TZID=America/Regina:20241004T190000
DTEND;TZID=America/Regina:20241004T190000
DTSTAMP:20260419T123247
CREATED:20240927T172130Z
LAST-MODIFIED:20240927T172333Z
UID:10000363-1728068400-1728068400@townofdelisle.com
SUMMARY:Delisle Rebels Football Game - Under the Lights
DESCRIPTION:Last Regular Season Home Game – Under the Lights!
URL:https://townofdelisle.com/event/delisle-rebels-football-under-the-lights-game/
LOCATION:Delisle Composite School
CATEGORIES:Community Event,Rec Event
END:VEVENT
BEGIN:VEVENT
DTSTART;TZID=America/Regina:20240921T150000
DTEND;TZID=America/Regina:20240921T150000
DTSTAMP:20260419T123247
CREATED:20240910T174716Z
LAST-MODIFIED:20240910T175458Z
UID:10000356-1726930800-1726930800@townofdelisle.com
SUMMARY:Canadian Flag Raising Ceremony
DESCRIPTION:
URL:https://townofdelisle.com/event/canadian-flag-raising-ceremony/
CATEGORIES:Community Event,Rec Event
END:VEVENT
BEGIN:VEVENT
DTSTART;TZID=America/Regina:20240908T090000
DTEND;TZID=America/Regina:20240908T113000
DTSTAMP:20260419T123247
CREATED:20240827T202103Z
LAST-MODIFIED:20240827T202103Z
UID:10000348-1725786000-1725795000@townofdelisle.com
SUMMARY:Fall Fest Activities
DESCRIPTION:
URL:https://townofdelisle.com/event/fall-fest-activities-2/
LOCATION:Delisle
CATEGORIES:Community Event,Rec Event
END:VEVENT
BEGIN:VEVENT
DTSTART;TZID=America/Regina:20240907T103000
DTEND;TZID=America/Regina:20240907T160000
DTSTAMP:20260419T123247
CREATED:20240827T201744Z
LAST-MODIFIED:20240827T201744Z
UID:10000347-1725705000-1725724800@townofdelisle.com
SUMMARY:Fall Fest Activities
DESCRIPTION:
URL:https://townofdelisle.com/event/fall-fest-activities/
LOCATION:Delisle
CATEGORIES:Community Event,Rec Event
END:VEVENT
BEGIN:VEVENT
DTSTART;VALUE=DATE:20240907
DTEND;VALUE=DATE:20240908
DTSTAMP:20260419T123247
CREATED:20240731T201526Z
LAST-MODIFIED:20240731T201818Z
UID:10000341-1725667200-1725753599@townofdelisle.com
SUMMARY:Vanscoy & District Agricultural Society FAIR
DESCRIPTION:VANSCOY & DISTRICT AGRICULTURAL SOCIETY is pleased to announce our 41st FAIR happening on Saturday\, September 7th at the Delisle Senior Centre! \nThere is a category for everyone so please pick up a catalogue today from our local businesses or find it online at www.vanscoyag.com. \nWe are excited to be part of Fall Fest with the Delisle & District Recreation Association and look forward to another great festival. \n 
URL:https://townofdelisle.com/event/vanscoy-district-agricultural-society-fair/
LOCATION:Delisle Senior Centre
CATEGORIES:Community Event,Rec Event
END:VEVENT
BEGIN:VEVENT
DTSTART;TZID=America/Regina:20240906T190000
DTEND;TZID=America/Regina:20240906T220000
DTSTAMP:20260419T123247
CREATED:20240827T195835Z
LAST-MODIFIED:20240827T195835Z
UID:10000345-1725649200-1725660000@townofdelisle.com
SUMMARY:Family Movie Night
DESCRIPTION:
URL:https://townofdelisle.com/event/family-movie-night/
LOCATION:Delisle Curling Rink
CATEGORIES:Community Event,Rec Event
END:VEVENT
BEGIN:VEVENT
DTSTART;TZID=America/Regina:20240905T173000
DTEND;TZID=America/Regina:20240905T203000
DTSTAMP:20260419T123247
CREATED:20240827T203429Z
LAST-MODIFIED:20240827T203429Z
UID:10000350-1725557400-1725568200@townofdelisle.com
SUMMARY:Senior Supper
DESCRIPTION:
URL:https://townofdelisle.com/event/senior-supper/
LOCATION:Delisle Senior Centre
CATEGORIES:Community Event,Rec Event
END:VEVENT
BEGIN:VEVENT
DTSTART;TZID=America/Regina:20240904T173000
DTEND;TZID=America/Regina:20240904T200000
DTSTAMP:20260419T123247
CREATED:20240827T202634Z
LAST-MODIFIED:20240827T202634Z
UID:10000349-1725471000-1725480000@townofdelisle.com
SUMMARY:Community Information Night/Welcome Back BBQ
DESCRIPTION:
URL:https://townofdelisle.com/event/community-information-night-welcome-back-bbq/
LOCATION:Delisle Composite School
CATEGORIES:Community Event,Rec Event
END:VEVENT
BEGIN:VEVENT
DTSTART;TZID=America/Regina:20240823T183000
DTEND;TZID=America/Regina:20240823T204500
DTSTAMP:20260419T123247
CREATED:20240731T200112Z
LAST-MODIFIED:20240731T200112Z
UID:10000339-1724437800-1724445900@townofdelisle.com
SUMMARY:Vacation Bible School - August 19 - 23
DESCRIPTION:Happening all week! \nAugust 19 – 23 \n6:30 pm – 8:45 pm \nPosters for events – 16
URL:https://townofdelisle.com/event/vacation-bible-school-august-19-23-5/
CATEGORIES:Community Event,Rec Event
END:VEVENT
BEGIN:VEVENT
DTSTART;TZID=America/Regina:20240822T183000
DTEND;TZID=America/Regina:20240822T204500
DTSTAMP:20260419T123247
CREATED:20240731T195708Z
LAST-MODIFIED:20240731T195708Z
UID:10000338-1724351400-1724359500@townofdelisle.com
SUMMARY:Vacation Bible School - August 19 - 23
DESCRIPTION:Happening all week! \nAugust 19 – 23 \n6:30 pm – 8:45 pm \nPosters for events – 16
URL:https://townofdelisle.com/event/vacation-bible-school-august-19-23-4/
CATEGORIES:Community Event,Rec Event
END:VEVENT
BEGIN:VEVENT
DTSTART;TZID=America/Regina:20240821T183000
DTEND;TZID=America/Regina:20240821T204500
DTSTAMP:20260419T123247
CREATED:20240731T195534Z
LAST-MODIFIED:20240731T195534Z
UID:10000337-1724265000-1724273100@townofdelisle.com
SUMMARY:Vacation Bible School - August 19 - 23
DESCRIPTION:Happening all week! \nAugust 19 – 23 \n6:30 pm – 8:45 pm \nPosters for events – 16
URL:https://townofdelisle.com/event/vacation-bible-school-august-19-23-3/
CATEGORIES:Community Event,Rec Event
END:VEVENT
BEGIN:VEVENT
DTSTART;TZID=America/Regina:20240820T183000
DTEND;TZID=America/Regina:20240820T204500
DTSTAMP:20260419T123247
CREATED:20240731T195310Z
LAST-MODIFIED:20240731T195348Z
UID:10000336-1724178600-1724186700@townofdelisle.com
SUMMARY:Vacation Bible School - August 19 - 23
DESCRIPTION:Happening all week! \nAugust 19 – 23 \n6:30 pm – 8:45 pm \nPosters for events – 16
URL:https://townofdelisle.com/event/vacation-bible-school-august-19-23-2/
CATEGORIES:Community Event,Rec Event
END:VEVENT
BEGIN:VEVENT
DTSTART;TZID=America/Regina:20240819T183000
DTEND;TZID=America/Regina:20240819T204500
DTSTAMP:20260419T123247
CREATED:20240731T195037Z
LAST-MODIFIED:20240731T195037Z
UID:10000335-1724092200-1724100300@townofdelisle.com
SUMMARY:Vacation Bible School - August 19-23
DESCRIPTION:Happening all week! \nAugust 19 – 23 \n6:30 pm – 8:45 pm \nPosters for events – 16
URL:https://townofdelisle.com/event/vacation-bible-school-august-19-23/
CATEGORIES:Community Event,Rec Event
END:VEVENT
BEGIN:VEVENT
DTSTART;TZID=America/Regina:20240722T184500
DTEND;TZID=America/Regina:20240722T220000
DTSTAMP:20260419T123247
CREATED:20240718T192919Z
LAST-MODIFIED:20240718T192919Z
UID:10000332-1721673900-1721685600@townofdelisle.com
SUMMARY:Saskatoon Amateur Softball - Delisle Pride vs Saskatoon Jacks
DESCRIPTION:SASKATOON AMATEUR SOFTBALL \n\n\nDelisle & District Recreation Association is proud to present Saskatoon Amateur Softball League in Delisle!\n\n\nMONDAY\, JULY 22 – First Pitch at 6:45PM!\n\n\nHead out to Harold Worth Park to watch the Delisle Pride take on the Saskatoon Jacks! Both teams have local players on their rosters!\n\n\nBeer Gardens\, 50/50 and Concession!\n\n\n 
URL:https://townofdelisle.com/event/saskatoon-amateur-softball-delisle-pride-vs-saskatoon-jacks/
LOCATION:Harold Worth Park
CATEGORIES:Community Event,Rec Event
END:VEVENT
BEGIN:VEVENT
DTSTART;TZID=America/Regina:20240713T110000
DTEND;TZID=America/Regina:20240713T160000
DTSTAMP:20260419T123247
CREATED:20240625T152329Z
LAST-MODIFIED:20240625T152329Z
UID:10000259-1720868400-1720886400@townofdelisle.com
SUMMARY:Beer Gardens & Live Music by "BARR ROAD"
DESCRIPTION:BEER GARDEN LIVE MUSIC BY BARR ROAD \nCome to the lot beside Prairie Centre Credit Union on July 13 from 11-4 during the Show & Shine. \nAll proceeds will go towards the New Accessible Playground in Delisle.
URL:https://townofdelisle.com/event/beer-gardens-live-music-by-barr-road/
LOCATION:Prairie Centre Credit Union
CATEGORIES:Community Event,Rec Event
END:VEVENT
BEGIN:VEVENT
DTSTART;TZID=America/Regina:20240712T180000
DTEND;TZID=America/Regina:20240713T010000
DTSTAMP:20260419T123247
CREATED:20240606T193635Z
LAST-MODIFIED:20240710T174441Z
UID:10000251-1720807200-1720832400@townofdelisle.com
SUMMARY:Delisle Rodeo
DESCRIPTION:
URL:https://townofdelisle.com/event/delisle-rodeo/
CATEGORIES:Community Event,Rec Event
END:VEVENT
BEGIN:VEVENT
DTSTART;VALUE=DATE:20240704
DTEND;VALUE=DATE:20240708
DTSTAMP:20260419T123247
CREATED:20240624T205233Z
LAST-MODIFIED:20240624T205233Z
UID:10000258-1720051200-1720396799@townofdelisle.com
SUMMARY:Softball Saskatchewan U13C Provincial Championships
DESCRIPTION:  \n  \n  \n  \nThe Delisle Minor Ball Association is hosting the Softball Saskatchewan U13C Provincial Championships July 4th to July 7th at Harold Worth Park. \nThis tournament will host 31 teams\, including the Delisle Rivers Central. \nConcession will be open\, and a food truck will be on site! \nAdmission is $5.00 per day\, $10.00 for the weekend.  \nCome out and support your Delisle Rivers Central team!
URL:https://townofdelisle.com/event/softball-saskatchewan-u13c-provincial-championships/
LOCATION:Harold Worth Park
CATEGORIES:Community Event,Rec Event
END:VEVENT
BEGIN:VEVENT
DTSTART;TZID=America/Regina:20240703T183000
DTEND;TZID=America/Regina:20240703T183000
DTSTAMP:20260419T123247
CREATED:20240612T162836Z
LAST-MODIFIED:20240612T163107Z
UID:10000253-1720031400-1720031400@townofdelisle.com
SUMMARY:Singing with Sylvia - Library Fundraiser
DESCRIPTION:
URL:https://townofdelisle.com/event/singing-with-sylvia-library-fundraiser/
CATEGORIES:Community Event,Rec Event
END:VEVENT
END:VCALENDAR