BEGIN:VCALENDAR
VERSION:2.0
PRODID:-//Town of Delisle - ECPv6.15.17.1//NONSGML v1.0//EN
CALSCALE:GREGORIAN
METHOD:PUBLISH
X-ORIGINAL-URL:https://townofdelisle.com
X-WR-CALDESC:Events for Town of Delisle
REFRESH-INTERVAL;VALUE=DURATION:PT1H
X-Robots-Tag:noindex
X-PUBLISHED-TTL:PT1H
BEGIN:VTIMEZONE
TZID:America/Regina
BEGIN:STANDARD
TZOFFSETFROM:-0600
TZOFFSETTO:-0600
TZNAME:CST
DTSTART:20240101T000000
END:STANDARD
END:VTIMEZONE
BEGIN:VEVENT
DTSTART;TZID=America/Regina:20250906T103000
DTEND;TZID=America/Regina:20250906T150000
DTSTAMP:20260419T123613
CREATED:20250826T195011Z
LAST-MODIFIED:20250826T195011Z
UID:10000611-1757154600-1757170800@townofdelisle.com
SUMMARY:FALL FEST ACTIVITIES
DESCRIPTION:
URL:https://townofdelisle.com/event/fall-fest-activities-3/
LOCATION:1st Street West\, Delisle\, SK.
CATEGORIES:Community Event,Rec Event
END:VEVENT
BEGIN:VEVENT
DTSTART;TZID=America/Regina:20250907T090000
DTEND;TZID=America/Regina:20250907T130000
DTSTAMP:20260419T123613
CREATED:20250827T195110Z
LAST-MODIFIED:20250828T151424Z
UID:10000613-1757235600-1757250000@townofdelisle.com
SUMMARY:Pancake Breakfast
DESCRIPTION:
URL:https://townofdelisle.com/event/pancake-breakfast-2/
LOCATION:Delisle Community Centre
CATEGORIES:Community Event,Rec Event
END:VEVENT
BEGIN:VEVENT
DTSTART;TZID=America/Regina:20250907T103000
DTEND;TZID=America/Regina:20250907T103000
DTSTAMP:20260419T123613
CREATED:20250828T215031Z
LAST-MODIFIED:20250828T215031Z
UID:10000614-1757241000-1757241000@townofdelisle.com
SUMMARY:Fall Fest Church Service
DESCRIPTION:
URL:https://townofdelisle.com/event/fall-fest-church-service-2/
LOCATION:Delisle Town  Hall
CATEGORIES:Community Event,Rec Event
END:VEVENT
BEGIN:VEVENT
DTSTART;TZID=America/Regina:20250910T173000
DTEND;TZID=America/Regina:20250910T203000
DTSTAMP:20260419T123613
CREATED:20250820T205431Z
LAST-MODIFIED:20250820T205431Z
UID:10000609-1757525400-1757536200@townofdelisle.com
SUMMARY:BBQ & Game Night
DESCRIPTION:
URL:https://townofdelisle.com/event/bbq-game-night/
LOCATION:Donavon School
CATEGORIES:Community Event,Rec Event
END:VEVENT
BEGIN:VEVENT
DTSTART;TZID=America/Regina:20250918T173000
DTEND;TZID=America/Regina:20250918T200000
DTSTAMP:20260419T123613
CREATED:20250710T143441Z
LAST-MODIFIED:20250710T143441Z
UID:10000606-1758216600-1758225600@townofdelisle.com
SUMMARY:Delisle Elementary Fun Night
DESCRIPTION:Join us for a fun-filled evening at the Delisle Elementary School on Thursday\, September 18th! \nEnjoy activities like face painting\, cake walk\, dunk tank\, balloon animals\, fire trucks and much more! \nEveryone is welcome – hope to see you there!
URL:https://townofdelisle.com/event/delisle-elementary-fun-night/
LOCATION:Delisle Elementary School
CATEGORIES:Community Event,Rec Event
END:VEVENT
BEGIN:VEVENT
DTSTART;TZID=America/Regina:20250919T100000
DTEND;TZID=America/Regina:20250919T103000
DTSTAMP:20260419T123613
CREATED:20250826T195845Z
LAST-MODIFIED:20250826T195845Z
UID:10000612-1758276000-1758277800@townofdelisle.com
SUMMARY:STORYTIME
DESCRIPTION:
URL:https://townofdelisle.com/event/storytime/
LOCATION:Delisle Library
CATEGORIES:Community Event,Rec Event
END:VEVENT
BEGIN:VEVENT
DTSTART;TZID=America/Regina:20250924T173000
DTEND;TZID=America/Regina:20250924T203000
DTSTAMP:20260419T123613
CREATED:20250820T210055Z
LAST-MODIFIED:20250820T210055Z
UID:10000610-1758735000-1758745800@townofdelisle.com
SUMMARY:BBQ & Game Night
DESCRIPTION:
URL:https://townofdelisle.com/event/bbq-game-night-2/
LOCATION:Donavon School
CATEGORIES:Community Event,Rec Event
END:VEVENT
BEGIN:VEVENT
DTSTART;VALUE=DATE:20250927
DTEND;VALUE=DATE:20250928
DTSTAMP:20260419T123613
CREATED:20250424T164445Z
LAST-MODIFIED:20250424T164445Z
UID:10000532-1758931200-1759017599@townofdelisle.com
SUMMARY:Craft and Chat
DESCRIPTION:
URL:https://townofdelisle.com/event/craft-and-chat-2/2025-09-27/
CATEGORIES:Community Event,Rec Event
END:VEVENT
BEGIN:VEVENT
DTSTART;VALUE=DATE:20251025
DTEND;VALUE=DATE:20251026
DTSTAMP:20260419T123613
CREATED:20250424T164445Z
LAST-MODIFIED:20250424T164445Z
UID:10000533-1761350400-1761436799@townofdelisle.com
SUMMARY:Craft and Chat
DESCRIPTION:
URL:https://townofdelisle.com/event/craft-and-chat-2/2025-10-25/
CATEGORIES:Community Event,Rec Event
END:VEVENT
BEGIN:VEVENT
DTSTART;VALUE=DATE:20251122
DTEND;VALUE=DATE:20251123
DTSTAMP:20260419T123613
CREATED:20250424T164445Z
LAST-MODIFIED:20250424T164445Z
UID:10000534-1763769600-1763855999@townofdelisle.com
SUMMARY:Craft and Chat
DESCRIPTION:
URL:https://townofdelisle.com/event/craft-and-chat-2/2025-11-22/
CATEGORIES:Community Event,Rec Event
END:VEVENT
BEGIN:VEVENT
DTSTART;VALUE=DATE:20251227
DTEND;VALUE=DATE:20251228
DTSTAMP:20260419T123613
CREATED:20250424T164445Z
LAST-MODIFIED:20250424T164445Z
UID:10000535-1766793600-1766879999@townofdelisle.com
SUMMARY:Craft and Chat
DESCRIPTION:
URL:https://townofdelisle.com/event/craft-and-chat-2/2025-12-27/
CATEGORIES:Community Event,Rec Event
END:VEVENT
BEGIN:VEVENT
DTSTART;VALUE=DATE:20260124
DTEND;VALUE=DATE:20260125
DTSTAMP:20260419T123613
CREATED:20250424T164445Z
LAST-MODIFIED:20250424T164445Z
UID:10000536-1769212800-1769299199@townofdelisle.com
SUMMARY:Craft and Chat
DESCRIPTION:
URL:https://townofdelisle.com/event/craft-and-chat-2/2026-01-24/
CATEGORIES:Community Event,Rec Event
END:VEVENT
BEGIN:VEVENT
DTSTART;VALUE=DATE:20260228
DTEND;VALUE=DATE:20260301
DTSTAMP:20260419T123613
CREATED:20250424T164445Z
LAST-MODIFIED:20250424T164445Z
UID:10000537-1772236800-1772323199@townofdelisle.com
SUMMARY:Craft and Chat
DESCRIPTION:
URL:https://townofdelisle.com/event/craft-and-chat-2/2026-02-28/
CATEGORIES:Community Event,Rec Event
END:VEVENT
BEGIN:VEVENT
DTSTART;VALUE=DATE:20260328
DTEND;VALUE=DATE:20260329
DTSTAMP:20260419T123613
CREATED:20250424T164445Z
LAST-MODIFIED:20250424T164445Z
UID:10000538-1774656000-1774742399@townofdelisle.com
SUMMARY:Craft and Chat
DESCRIPTION:
URL:https://townofdelisle.com/event/craft-and-chat-2/2026-03-28/
CATEGORIES:Community Event,Rec Event
END:VEVENT
BEGIN:VEVENT
DTSTART;VALUE=DATE:20260425
DTEND;VALUE=DATE:20260426
DTSTAMP:20260419T123613
CREATED:20250424T164445Z
LAST-MODIFIED:20250424T164445Z
UID:10000539-1777075200-1777161599@townofdelisle.com
SUMMARY:Craft and Chat
DESCRIPTION:
URL:https://townofdelisle.com/event/craft-and-chat-2/2026-04-25/
CATEGORIES:Community Event,Rec Event
END:VEVENT
BEGIN:VEVENT
DTSTART;VALUE=DATE:20260523
DTEND;VALUE=DATE:20260524
DTSTAMP:20260419T123613
CREATED:20250424T164445Z
LAST-MODIFIED:20250424T164445Z
UID:10000540-1779494400-1779580799@townofdelisle.com
SUMMARY:Craft and Chat
DESCRIPTION:
URL:https://townofdelisle.com/event/craft-and-chat-2/2026-05-23/
CATEGORIES:Community Event,Rec Event
END:VEVENT
BEGIN:VEVENT
DTSTART;VALUE=DATE:20260627
DTEND;VALUE=DATE:20260628
DTSTAMP:20260419T123613
CREATED:20250424T164445Z
LAST-MODIFIED:20250424T164445Z
UID:10000541-1782518400-1782604799@townofdelisle.com
SUMMARY:Craft and Chat
DESCRIPTION:
URL:https://townofdelisle.com/event/craft-and-chat-2/2026-06-27/
CATEGORIES:Community Event,Rec Event
END:VEVENT
BEGIN:VEVENT
DTSTART;VALUE=DATE:20260725
DTEND;VALUE=DATE:20260726
DTSTAMP:20260419T123613
CREATED:20250424T164445Z
LAST-MODIFIED:20250424T164445Z
UID:10000542-1784937600-1785023999@townofdelisle.com
SUMMARY:Craft and Chat
DESCRIPTION:
URL:https://townofdelisle.com/event/craft-and-chat-2/2026-07-25/
CATEGORIES:Community Event,Rec Event
END:VEVENT
BEGIN:VEVENT
DTSTART;VALUE=DATE:20260822
DTEND;VALUE=DATE:20260823
DTSTAMP:20260419T123613
CREATED:20250424T164445Z
LAST-MODIFIED:20250424T164445Z
UID:10000543-1787356800-1787443199@townofdelisle.com
SUMMARY:Craft and Chat
DESCRIPTION:
URL:https://townofdelisle.com/event/craft-and-chat-2/2026-08-22/
CATEGORIES:Community Event,Rec Event
END:VEVENT
BEGIN:VEVENT
DTSTART;VALUE=DATE:20260926
DTEND;VALUE=DATE:20260927
DTSTAMP:20260419T123613
CREATED:20250424T164445Z
LAST-MODIFIED:20250424T164445Z
UID:10000544-1790380800-1790467199@townofdelisle.com
SUMMARY:Craft and Chat
DESCRIPTION:
URL:https://townofdelisle.com/event/craft-and-chat-2/2026-09-26/
CATEGORIES:Community Event,Rec Event
END:VEVENT
BEGIN:VEVENT
DTSTART;VALUE=DATE:20261024
DTEND;VALUE=DATE:20261025
DTSTAMP:20260419T123613
CREATED:20250424T164445Z
LAST-MODIFIED:20250424T164445Z
UID:10000545-1792800000-1792886399@townofdelisle.com
SUMMARY:Craft and Chat
DESCRIPTION:
URL:https://townofdelisle.com/event/craft-and-chat-2/2026-10-24/
CATEGORIES:Community Event,Rec Event
END:VEVENT
END:VCALENDAR