BEGIN:VCALENDAR
VERSION:2.0
PRODID:-//Town of Delisle - ECPv6.15.17.1//NONSGML v1.0//EN
CALSCALE:GREGORIAN
METHOD:PUBLISH
X-WR-CALNAME:Town of Delisle
X-ORIGINAL-URL:https://townofdelisle.com
X-WR-CALDESC:Events for Town of Delisle
REFRESH-INTERVAL;VALUE=DURATION:PT1H
X-Robots-Tag:noindex
X-PUBLISHED-TTL:PT1H
BEGIN:VTIMEZONE
TZID:America/Regina
BEGIN:STANDARD
TZOFFSETFROM:-0600
TZOFFSETTO:-0600
TZNAME:CST
DTSTART:20230101T000000
END:STANDARD
END:VTIMEZONE
BEGIN:VEVENT
DTSTART;TZID=America/Regina:20241218T163000
DTEND;TZID=America/Regina:20241218T193000
DTSTAMP:20260420T011042
CREATED:20241126T173715Z
LAST-MODIFIED:20241126T173715Z
UID:10000376-1734539400-1734550200@townofdelisle.com
SUMMARY:Deck the Halls at Delisle Composite High School
DESCRIPTION:Deck the Halls at Delisle Composite High School! \nDate: Wednesday\, December 18th \nTime: 4:30 – 7:30 PM \nLocation: Delisle Composite High School \nCome enjoy the holiday decorations\, cookies\, and hot chocolate! Silver collection donations welcome. \nBring the whole family – everyone is invited!
URL:https://townofdelisle.com/event/deck-the-halls-at-delisle-composite-high-school/
LOCATION:Delisle Composite High School
CATEGORIES:Community Event,Rec Event
END:VEVENT
BEGIN:VEVENT
DTSTART;TZID=America/Regina:20241218T163000
DTEND;TZID=America/Regina:20241218T193000
DTSTAMP:20260420T011042
CREATED:20241126T200335Z
LAST-MODIFIED:20241126T200335Z
UID:10000379-1734539400-1734550200@townofdelisle.com
SUMMARY:Angel Tree Christmas Store
DESCRIPTION:Open house at DCS for their Deck the Halls event. We will host a Christmas store\, where kids can buy small Christmas gifts for their family members. Price range from .25 to $5. We will help the kids shop and wrap their gifts\, while you check out the hallways. \n  \n 
URL:https://townofdelisle.com/event/angel-tree-christmas-store/
LOCATION:Delisle Composite High School
CATEGORIES:Community Event,Rec Event
END:VEVENT
BEGIN:VEVENT
DTSTART;TZID=America/Regina:20241224T190000
DTEND;TZID=America/Regina:20241224T190000
DTSTAMP:20260420T011042
CREATED:20241126T194724Z
LAST-MODIFIED:20241126T194737Z
UID:10000377-1735066800-1735066800@townofdelisle.com
SUMMARY:Christmas Eve Candlelight Service
DESCRIPTION:Christmas Eve Church Service \nDelisle Community Church \nDecember 24\, 2024 \n7:00 p.m.
URL:https://townofdelisle.com/event/christmas-eve-candlelight-service/
LOCATION:Delisle Community Church
CATEGORIES:Community Event,Rec Event
END:VEVENT
BEGIN:VEVENT
DTSTART;TZID=America/Regina:20250124T173000
DTEND;TZID=America/Regina:20250124T173000
DTSTAMP:20260420T011042
CREATED:20250122T155221Z
LAST-MODIFIED:20250122T155339Z
UID:10000502-1737739800-1737739800@townofdelisle.com
SUMMARY:Games Night & Potluck
DESCRIPTION:
URL:https://townofdelisle.com/event/games-night-potluck/
LOCATION:Delisle Senior Centre
CATEGORIES:Community Event,Rec Event
END:VEVENT
BEGIN:VEVENT
DTSTART;VALUE=DATE:20250208
DTEND;VALUE=DATE:20250209
DTSTAMP:20260420T011042
CREATED:20241231T203526Z
LAST-MODIFIED:20241231T203526Z
UID:10000499-1738972800-1739059199@townofdelisle.com
SUMMARY:Doubles Bonspiel
DESCRIPTION:
URL:https://townofdelisle.com/event/doubles-bonspiel/
LOCATION:Delisle Curling Rink
CATEGORIES:Community Event,Rec Event
END:VEVENT
BEGIN:VEVENT
DTSTART;TZID=America/Regina:20250219T183000
DTEND;TZID=America/Regina:20250219T183000
DTSTAMP:20260420T011042
CREATED:20250129T150417Z
LAST-MODIFIED:20250129T150939Z
UID:10000507-1739989800-1739989800@townofdelisle.com
SUMMARY:Barbie Night
DESCRIPTION:
URL:https://townofdelisle.com/event/barbie-night/
LOCATION:Delisle-Vanscoy United Church
CATEGORIES:Community Event,Rec Event
END:VEVENT
BEGIN:VEVENT
DTSTART;TZID=America/Regina:20250220T173000
DTEND;TZID=America/Regina:20250220T173000
DTSTAMP:20260420T011042
CREATED:20250213T155400Z
LAST-MODIFIED:20250213T155432Z
UID:10000511-1740072600-1740072600@townofdelisle.com
SUMMARY:Messy Church
DESCRIPTION:
URL:https://townofdelisle.com/event/messy-church/
LOCATION:Delisle-Vanscoy United Church
CATEGORIES:Community Event,Rec Event
END:VEVENT
BEGIN:VEVENT
DTSTART;TZID=America/Regina:20250221T130000
DTEND;TZID=America/Regina:20250221T130000
DTSTAMP:20260420T011042
CREATED:20250122T160957Z
LAST-MODIFIED:20250122T161014Z
UID:10000503-1740142800-1740142800@townofdelisle.com
SUMMARY:Crib Tournament
DESCRIPTION:
URL:https://townofdelisle.com/event/crib-tournament/
LOCATION:Delisle Senior Centre
CATEGORIES:Community Event,Rec Event
END:VEVENT
BEGIN:VEVENT
DTSTART;TZID=America/Regina:20250222T100000
DTEND;TZID=America/Regina:20250222T160000
DTSTAMP:20260420T011042
CREATED:20250213T153714Z
LAST-MODIFIED:20250213T153714Z
UID:10000509-1740218400-1740240000@townofdelisle.com
SUMMARY:Craft Day
DESCRIPTION:Time: 10:00 AM – 4:00 PM\nFee is $5.00\nBring any craft you would like to work on! \nBring your own lunch & snacks (coffee and tea will be provided) \nCome out and have a great time with our crafters! \nFor more Info\, please contact Sophie Vandale @ 306-222-3042 \nDelisle-Vanscoy United Church
URL:https://townofdelisle.com/event/craft-day/
LOCATION:Delisle-Vanscoy United Church
CATEGORIES:Community Event,Rec Event
END:VEVENT
BEGIN:VEVENT
DTSTART;TZID=America/Regina:20250226T190000
DTEND;TZID=America/Regina:20250226T190000
DTSTAMP:20260420T011042
CREATED:20250122T154827Z
LAST-MODIFIED:20250122T154846Z
UID:10000501-1740596400-1740596400@townofdelisle.com
SUMMARY:Town Hall Meeting
DESCRIPTION:
URL:https://townofdelisle.com/event/town-hall-meeting/
LOCATION:Lodge Room
CATEGORIES:Community Event,Rec Event
END:VEVENT
BEGIN:VEVENT
DTSTART;TZID=America/Regina:20250228T173000
DTEND;TZID=America/Regina:20250228T173000
DTSTAMP:20260420T011042
CREATED:20250122T171345Z
LAST-MODIFIED:20250122T171823Z
UID:10000504-1740763800-1740763800@townofdelisle.com
SUMMARY:Delisle Elementary School Bingo Night
DESCRIPTION:
URL:https://townofdelisle.com/event/bingo-night/
LOCATION:Delisle Town  Hall
CATEGORIES:Community Event,Rec Event
END:VEVENT
BEGIN:VEVENT
DTSTART;TZID=America/Regina:20250301T103000
DTEND;TZID=America/Regina:20250301T103000
DTSTAMP:20260420T011042
CREATED:20250224T154719Z
LAST-MODIFIED:20250224T154743Z
UID:10000512-1740825000-1740825000@townofdelisle.com
SUMMARY:Groundbreaking Ceremony - New Lift Station Project
DESCRIPTION:
URL:https://townofdelisle.com/event/groundbreaking-ceremony-new-lift-station-project/
LOCATION:East of Valleyview Drive [New Lift Station Project Site]
CATEGORIES:Community Event,Rec Event
END:VEVENT
BEGIN:VEVENT
DTSTART;TZID=America/Regina:20250308T173000
DTEND;TZID=America/Regina:20250308T173000
DTSTAMP:20260420T011042
CREATED:20250213T154857Z
LAST-MODIFIED:20250213T155031Z
UID:10000510-1741455000-1741455000@townofdelisle.com
SUMMARY:Spring Bunny Bingo
DESCRIPTION:
URL:https://townofdelisle.com/event/spring-bunny-bingo/
LOCATION:Delisle Town Hall
CATEGORIES:Community Event,Rec Event
END:VEVENT
BEGIN:VEVENT
DTSTART;TZID=America/Regina:20250309T090000
DTEND;TZID=America/Regina:20250309T130000
DTSTAMP:20260420T011042
CREATED:20250128T170105Z
LAST-MODIFIED:20250128T170105Z
UID:10000506-1741510800-1741525200@townofdelisle.com
SUMMARY:Pancake Breakfast
DESCRIPTION:
URL:https://townofdelisle.com/event/pancake-breakfast/
LOCATION:Delisle Senior Centre
CATEGORIES:Community Event,Rec Event
END:VEVENT
BEGIN:VEVENT
DTSTART;TZID=America/Regina:20250314T100000
DTEND;TZID=America/Regina:20250314T103000
DTSTAMP:20260420T011042
CREATED:20250224T155211Z
LAST-MODIFIED:20250224T155211Z
UID:10000513-1741946400-1741948200@townofdelisle.com
SUMMARY:Story Time - Delisle Library
DESCRIPTION:
URL:https://townofdelisle.com/event/story-time-delisle-library/
LOCATION:Delisle Library
CATEGORIES:Community Event,Rec Event
END:VEVENT
BEGIN:VEVENT
DTSTART;TZID=America/Regina:20250314T160000
DTEND;TZID=America/Regina:20250314T180000
DTSTAMP:20260420T011042
CREATED:20250226T164227Z
LAST-MODIFIED:20250311T145830Z
UID:10000520-1741968000-1741975200@townofdelisle.com
SUMMARY:Pi Day Sale
DESCRIPTION:
URL:https://townofdelisle.com/event/pie-sale-2/
LOCATION:Delisle-Vanscoy United Church
CATEGORIES:Community Event,Rec Event
END:VEVENT
BEGIN:VEVENT
DTSTART;TZID=America/Regina:20250322T100000
DTEND;TZID=America/Regina:20250322T160000
DTSTAMP:20260420T011042
CREATED:20250226T163901Z
LAST-MODIFIED:20250226T163901Z
UID:10000518-1742637600-1742659200@townofdelisle.com
SUMMARY:Craft & Chat
DESCRIPTION:
URL:https://townofdelisle.com/event/craft-chat/
LOCATION:Delisle-Vanscoy United Church
CATEGORIES:Community Event,Rec Event
END:VEVENT
BEGIN:VEVENT
DTSTART;TZID=America/Regina:20250404T183000
DTEND;TZID=America/Regina:20250404T183000
DTSTAMP:20260420T011042
CREATED:20250226T145811Z
LAST-MODIFIED:20250226T150119Z
UID:10000515-1743791400-1743791400@townofdelisle.com
SUMMARY:Legion Bingo
DESCRIPTION:
URL:https://townofdelisle.com/event/legion-bingo/
LOCATION:Delisle Town  Hall
CATEGORIES:Community Event,Rec Event
END:VEVENT
BEGIN:VEVENT
DTSTART;TZID=America/Regina:20250412T160000
DTEND;TZID=America/Regina:20250412T160000
DTSTAMP:20260420T011042
CREATED:20250226T150009Z
LAST-MODIFIED:20250311T165057Z
UID:10000516-1744473600-1744473600@townofdelisle.com
SUMMARY:Cornhole Tournament
DESCRIPTION:
URL:https://townofdelisle.com/event/cornhole-tournament/
LOCATION:Delisle Senior Centre
CATEGORIES:Community Event,Rec Event
END:VEVENT
BEGIN:VEVENT
DTSTART;TZID=America/Regina:20250413T190000
DTEND;TZID=America/Regina:20250413T200000
DTSTAMP:20260420T011042
CREATED:20250224T155450Z
LAST-MODIFIED:20250224T155450Z
UID:10000514-1744570800-1744574400@townofdelisle.com
SUMMARY:Delisle Angel Tree AGM
DESCRIPTION:SUNDAY\, APRIL 13th \n7:00 pm – 8:00 pm \nAt the Lodge Room\, [Back of Delisle Town Hall] \nContact us at delisleangeltree@gmail.com for inquiries and nominations!
URL:https://townofdelisle.com/event/delisle-angel-tree-agm/
LOCATION:Lodge Room
CATEGORIES:Community Event,Rec Event
END:VEVENT
BEGIN:VEVENT
DTSTART;TZID=America/Regina:20250416T180000
DTEND;TZID=America/Regina:20250416T180000
DTSTAMP:20260420T011042
CREATED:20250325T195333Z
LAST-MODIFIED:20250325T195510Z
UID:10000523-1744826400-1744826400@townofdelisle.com
SUMMARY:Delisle Valleyview Golf Club AGM
DESCRIPTION:
URL:https://townofdelisle.com/event/delisle-valleyview-golf-club-agm/
LOCATION:Delisle Lodge Room
CATEGORIES:Community Event,Rec Event
END:VEVENT
BEGIN:VEVENT
DTSTART;TZID=America/Regina:20250416T190000
DTEND;TZID=America/Regina:20250416T190000
DTSTAMP:20260420T011042
CREATED:20250226T150402Z
LAST-MODIFIED:20250325T194217Z
UID:10000517-1744830000-1744830000@townofdelisle.com
SUMMARY:Delisle & District Recreation AGM
DESCRIPTION:
URL:https://townofdelisle.com/event/delisle-district-recreation-agm/
LOCATION:Delisle Rec Office
CATEGORIES:Community Event,Rec Event
END:VEVENT
BEGIN:VEVENT
DTSTART;TZID=America/Regina:20250423T183000
DTEND;TZID=America/Regina:20250423T183000
DTSTAMP:20260420T011042
CREATED:20250325T200134Z
LAST-MODIFIED:20250325T200146Z
UID:10000526-1745433000-1745433000@townofdelisle.com
SUMMARY:Book Launch
DESCRIPTION:
URL:https://townofdelisle.com/event/book-launch/
LOCATION:Delisle Library
CATEGORIES:Community Event,Rec Event
END:VEVENT
BEGIN:VEVENT
DTSTART;TZID=America/Regina:20250423T190000
DTEND;TZID=America/Regina:20250423T190000
DTSTAMP:20260420T011042
CREATED:20250331T145739Z
LAST-MODIFIED:20250331T150010Z
UID:10000527-1745434800-1745434800@townofdelisle.com
SUMMARY:Delisle Senior Citizen's Club AGM
DESCRIPTION:
URL:https://townofdelisle.com/event/delisle-senior-citizens-club-agm/
LOCATION:Delisle Senior Centre
CATEGORIES:Community Event,Rec Event
END:VEVENT
BEGIN:VEVENT
DTSTART;TZID=America/Regina:20250425T100000
DTEND;TZID=America/Regina:20250425T103000
DTSTAMP:20260420T011042
CREATED:20250325T195936Z
LAST-MODIFIED:20250325T195936Z
UID:10000525-1745575200-1745577000@townofdelisle.com
SUMMARY:Spring Story Time
DESCRIPTION:
URL:https://townofdelisle.com/event/spring-story-time/
LOCATION:Delisle Library
CATEGORIES:Community Event,Rec Event
END:VEVENT
BEGIN:VEVENT
DTSTART;TZID=America/Regina:20250426T100000
DTEND;TZID=America/Regina:20250426T160000
DTSTAMP:20260420T011042
CREATED:20250226T164017Z
LAST-MODIFIED:20250226T164017Z
UID:10000519-1745661600-1745683200@townofdelisle.com
SUMMARY:Craft and Chat
DESCRIPTION:
URL:https://townofdelisle.com/event/craft-and-chat/
LOCATION:Delisle-Vanscoy United Church
CATEGORIES:Community Event,Rec Event
END:VEVENT
BEGIN:VEVENT
DTSTART;TZID=America/Regina:20250502T093000
DTEND;TZID=America/Regina:20250502T150000
DTSTAMP:20260420T011042
CREATED:20250325T195817Z
LAST-MODIFIED:20250325T195817Z
UID:10000524-1746178200-1746198000@townofdelisle.com
SUMMARY:Prosperity Credit Union - Delisle - Information Sessions
DESCRIPTION:
URL:https://townofdelisle.com/event/prosperity-credit-union-delisle-information-sessions/
LOCATION:Prosperity Credit Union – Delisle
CATEGORIES:Community Event,Rec Event
END:VEVENT
BEGIN:VEVENT
DTSTART;TZID=America/Regina:20250510T080000
DTEND;TZID=America/Regina:20250510T080000
DTSTAMP:20260420T011042
CREATED:20250429T194704Z
LAST-MODIFIED:20250429T194806Z
UID:10000592-1746864000-1746864000@townofdelisle.com
SUMMARY:Delisle Garage Sale Day
DESCRIPTION: 
URL:https://townofdelisle.com/event/delisle-garage-sale-day/
CATEGORIES:Community Event,Rec Event
END:VEVENT
BEGIN:VEVENT
DTSTART;TZID=America/Regina:20250510T100000
DTEND;TZID=America/Regina:20250510T140000
DTSTAMP:20260420T011042
CREATED:20250325T195129Z
LAST-MODIFIED:20250325T195129Z
UID:10000522-1746871200-1746885600@townofdelisle.com
SUMMARY:3rd Annual Delisle Community Walk for Mental Health
DESCRIPTION:
URL:https://townofdelisle.com/event/3rd-annual-delisle-community-walk-for-mental-health/
LOCATION:Delisle Town  Hall
CATEGORIES:Community Event,Rec Event
END:VEVENT
BEGIN:VEVENT
DTSTART;TZID=America/Regina:20250515T190000
DTEND;TZID=America/Regina:20250515T190000
DTSTAMP:20260420T011042
CREATED:20250325T194943Z
LAST-MODIFIED:20250325T194958Z
UID:10000521-1747335600-1747335600@townofdelisle.com
SUMMARY:Perennial Exchange
DESCRIPTION:
URL:https://townofdelisle.com/event/perennial-exchange/
LOCATION:Vanscoy Circle Hall
CATEGORIES:Community Event,Rec Event
END:VEVENT
END:VCALENDAR