BEGIN:VCALENDAR
VERSION:2.0
PRODID:-//Town of Delisle - ECPv6.15.17.1//NONSGML v1.0//EN
CALSCALE:GREGORIAN
METHOD:PUBLISH
X-ORIGINAL-URL:https://townofdelisle.com
X-WR-CALDESC:Events for Town of Delisle
REFRESH-INTERVAL;VALUE=DURATION:PT1H
X-Robots-Tag:noindex
X-PUBLISHED-TTL:PT1H
BEGIN:VTIMEZONE
TZID:America/Regina
BEGIN:STANDARD
TZOFFSETFROM:-0600
TZOFFSETTO:-0600
TZNAME:CST
DTSTART:20230101T000000
END:STANDARD
END:VTIMEZONE
BEGIN:VEVENT
DTSTART;TZID=America/Regina:20241004T190000
DTEND;TZID=America/Regina:20241004T190000
DTSTAMP:20260419T160536
CREATED:20240927T172130Z
LAST-MODIFIED:20240927T172333Z
UID:10000363-1728068400-1728068400@townofdelisle.com
SUMMARY:Delisle Rebels Football Game - Under the Lights
DESCRIPTION:Last Regular Season Home Game – Under the Lights!
URL:https://townofdelisle.com/event/delisle-rebels-football-under-the-lights-game/
LOCATION:Delisle Composite School
CATEGORIES:Community Event,Rec Event
END:VEVENT
BEGIN:VEVENT
DTSTART;TZID=America/Regina:20241020T190000
DTEND;TZID=America/Regina:20241020T190000
DTSTAMP:20260419T160537
CREATED:20240927T165907Z
LAST-MODIFIED:20240927T170018Z
UID:10000359-1729450800-1729450800@townofdelisle.com
SUMMARY:Delisle Curling Club - AGM
DESCRIPTION:AGM in the Delisle Curling Lounge
URL:https://townofdelisle.com/event/delisle-curling-club-agm/
LOCATION:Delisle Curling Rink Lounge
CATEGORIES:Community Event,Rec Event
END:VEVENT
END:VCALENDAR