BEGIN:VCALENDAR
VERSION:2.0
PRODID:-//Town of Delisle - ECPv6.15.17.1//NONSGML v1.0//EN
CALSCALE:GREGORIAN
METHOD:PUBLISH
X-WR-CALNAME:Town of Delisle
X-ORIGINAL-URL:https://townofdelisle.com
X-WR-CALDESC:Events for Town of Delisle
REFRESH-INTERVAL;VALUE=DURATION:PT1H
X-Robots-Tag:noindex
X-PUBLISHED-TTL:PT1H
BEGIN:VTIMEZONE
TZID:America/Regina
BEGIN:STANDARD
TZOFFSETFROM:-0600
TZOFFSETTO:-0600
TZNAME:CST
DTSTART:20280101T000000
END:STANDARD
END:VTIMEZONE
BEGIN:VEVENT
DTSTART;TZID=America/Regina:20290531T093000
DTEND;TZID=America/Regina:20290531T093000
DTSTAMP:20260419T214551
CREATED:20260107T163825Z
LAST-MODIFIED:20260107T164858Z
UID:10000978-1874914200-1874914200@townofdelisle.com
SUMMARY:Exercise Program
DESCRIPTION:
URL:https://townofdelisle.com/event/exercise-program/2029-05-31/
LOCATION:Delisle Community Centre
CATEGORIES:Other
END:VEVENT
BEGIN:VEVENT
DTSTART;TZID=America/Regina:20290604T093000
DTEND;TZID=America/Regina:20290604T093000
DTSTAMP:20260419T214551
CREATED:20260107T163825Z
LAST-MODIFIED:20260107T164858Z
UID:10000979-1875259800-1875259800@townofdelisle.com
SUMMARY:Exercise Program
DESCRIPTION:
URL:https://townofdelisle.com/event/exercise-program/2029-06-04/
LOCATION:Delisle Community Centre
CATEGORIES:Other
END:VEVENT
BEGIN:VEVENT
DTSTART;TZID=America/Regina:20290607T093000
DTEND;TZID=America/Regina:20290607T093000
DTSTAMP:20260419T214551
CREATED:20260107T163825Z
LAST-MODIFIED:20260107T164858Z
UID:10000980-1875519000-1875519000@townofdelisle.com
SUMMARY:Exercise Program
DESCRIPTION:
URL:https://townofdelisle.com/event/exercise-program/2029-06-07/
LOCATION:Delisle Community Centre
CATEGORIES:Other
END:VEVENT
BEGIN:VEVENT
DTSTART;TZID=America/Regina:20290611T093000
DTEND;TZID=America/Regina:20290611T093000
DTSTAMP:20260419T214551
CREATED:20260107T163825Z
LAST-MODIFIED:20260107T164858Z
UID:10000981-1875864600-1875864600@townofdelisle.com
SUMMARY:Exercise Program
DESCRIPTION:
URL:https://townofdelisle.com/event/exercise-program/2029-06-11/
LOCATION:Delisle Community Centre
CATEGORIES:Other
END:VEVENT
BEGIN:VEVENT
DTSTART;TZID=America/Regina:20290614T093000
DTEND;TZID=America/Regina:20290614T093000
DTSTAMP:20260419T214551
CREATED:20260107T163825Z
LAST-MODIFIED:20260107T164858Z
UID:10000982-1876123800-1876123800@townofdelisle.com
SUMMARY:Exercise Program
DESCRIPTION:
URL:https://townofdelisle.com/event/exercise-program/2029-06-14/
LOCATION:Delisle Community Centre
CATEGORIES:Other
END:VEVENT
BEGIN:VEVENT
DTSTART;TZID=America/Regina:20290618T093000
DTEND;TZID=America/Regina:20290618T093000
DTSTAMP:20260419T214551
CREATED:20260107T163825Z
LAST-MODIFIED:20260107T164858Z
UID:10000983-1876469400-1876469400@townofdelisle.com
SUMMARY:Exercise Program
DESCRIPTION:
URL:https://townofdelisle.com/event/exercise-program/2029-06-18/
LOCATION:Delisle Community Centre
CATEGORIES:Other
END:VEVENT
BEGIN:VEVENT
DTSTART;TZID=America/Regina:20290621T093000
DTEND;TZID=America/Regina:20290621T093000
DTSTAMP:20260419T214551
CREATED:20260107T163825Z
LAST-MODIFIED:20260107T164858Z
UID:10000984-1876728600-1876728600@townofdelisle.com
SUMMARY:Exercise Program
DESCRIPTION:
URL:https://townofdelisle.com/event/exercise-program/2029-06-21/
LOCATION:Delisle Community Centre
CATEGORIES:Other
END:VEVENT
BEGIN:VEVENT
DTSTART;TZID=America/Regina:20290625T093000
DTEND;TZID=America/Regina:20290625T093000
DTSTAMP:20260419T214551
CREATED:20260107T163825Z
LAST-MODIFIED:20260107T164858Z
UID:10000985-1877074200-1877074200@townofdelisle.com
SUMMARY:Exercise Program
DESCRIPTION:
URL:https://townofdelisle.com/event/exercise-program/2029-06-25/
LOCATION:Delisle Community Centre
CATEGORIES:Other
END:VEVENT
BEGIN:VEVENT
DTSTART;TZID=America/Regina:20290628T093000
DTEND;TZID=America/Regina:20290628T093000
DTSTAMP:20260419T214551
CREATED:20260107T163825Z
LAST-MODIFIED:20260107T164858Z
UID:10000986-1877333400-1877333400@townofdelisle.com
SUMMARY:Exercise Program
DESCRIPTION:
URL:https://townofdelisle.com/event/exercise-program/2029-06-28/
LOCATION:Delisle Community Centre
CATEGORIES:Other
END:VEVENT
BEGIN:VEVENT
DTSTART;TZID=America/Regina:20290702T093000
DTEND;TZID=America/Regina:20290702T093000
DTSTAMP:20260419T214551
CREATED:20260107T163825Z
LAST-MODIFIED:20260107T164858Z
UID:10000987-1877679000-1877679000@townofdelisle.com
SUMMARY:Exercise Program
DESCRIPTION:
URL:https://townofdelisle.com/event/exercise-program/2029-07-02/
LOCATION:Delisle Community Centre
CATEGORIES:Other
END:VEVENT
BEGIN:VEVENT
DTSTART;TZID=America/Regina:20290705T093000
DTEND;TZID=America/Regina:20290705T093000
DTSTAMP:20260419T214551
CREATED:20260107T163825Z
LAST-MODIFIED:20260107T164858Z
UID:10000988-1877938200-1877938200@townofdelisle.com
SUMMARY:Exercise Program
DESCRIPTION:
URL:https://townofdelisle.com/event/exercise-program/2029-07-05/
LOCATION:Delisle Community Centre
CATEGORIES:Other
END:VEVENT
BEGIN:VEVENT
DTSTART;TZID=America/Regina:20290709T093000
DTEND;TZID=America/Regina:20290709T093000
DTSTAMP:20260419T214551
CREATED:20260107T163825Z
LAST-MODIFIED:20260107T164858Z
UID:10000989-1878283800-1878283800@townofdelisle.com
SUMMARY:Exercise Program
DESCRIPTION:
URL:https://townofdelisle.com/event/exercise-program/2029-07-09/
LOCATION:Delisle Community Centre
CATEGORIES:Other
END:VEVENT
BEGIN:VEVENT
DTSTART;TZID=America/Regina:20290712T093000
DTEND;TZID=America/Regina:20290712T093000
DTSTAMP:20260419T214551
CREATED:20260107T163825Z
LAST-MODIFIED:20260107T164858Z
UID:10000990-1878543000-1878543000@townofdelisle.com
SUMMARY:Exercise Program
DESCRIPTION:
URL:https://townofdelisle.com/event/exercise-program/2029-07-12/
LOCATION:Delisle Community Centre
CATEGORIES:Other
END:VEVENT
BEGIN:VEVENT
DTSTART;TZID=America/Regina:20290716T093000
DTEND;TZID=America/Regina:20290716T093000
DTSTAMP:20260419T214551
CREATED:20260107T163825Z
LAST-MODIFIED:20260107T164858Z
UID:10000991-1878888600-1878888600@townofdelisle.com
SUMMARY:Exercise Program
DESCRIPTION:
URL:https://townofdelisle.com/event/exercise-program/2029-07-16/
LOCATION:Delisle Community Centre
CATEGORIES:Other
END:VEVENT
BEGIN:VEVENT
DTSTART;TZID=America/Regina:20290719T093000
DTEND;TZID=America/Regina:20290719T093000
DTSTAMP:20260419T214551
CREATED:20260107T163825Z
LAST-MODIFIED:20260107T164858Z
UID:10000992-1879147800-1879147800@townofdelisle.com
SUMMARY:Exercise Program
DESCRIPTION:
URL:https://townofdelisle.com/event/exercise-program/2029-07-19/
LOCATION:Delisle Community Centre
CATEGORIES:Other
END:VEVENT
BEGIN:VEVENT
DTSTART;TZID=America/Regina:20290723T093000
DTEND;TZID=America/Regina:20290723T093000
DTSTAMP:20260419T214551
CREATED:20260107T163825Z
LAST-MODIFIED:20260107T164858Z
UID:10000993-1879493400-1879493400@townofdelisle.com
SUMMARY:Exercise Program
DESCRIPTION:
URL:https://townofdelisle.com/event/exercise-program/2029-07-23/
LOCATION:Delisle Community Centre
CATEGORIES:Other
END:VEVENT
BEGIN:VEVENT
DTSTART;TZID=America/Regina:20290726T093000
DTEND;TZID=America/Regina:20290726T093000
DTSTAMP:20260419T214551
CREATED:20260107T163825Z
LAST-MODIFIED:20260107T164858Z
UID:10000994-1879752600-1879752600@townofdelisle.com
SUMMARY:Exercise Program
DESCRIPTION:
URL:https://townofdelisle.com/event/exercise-program/2029-07-26/
LOCATION:Delisle Community Centre
CATEGORIES:Other
END:VEVENT
BEGIN:VEVENT
DTSTART;TZID=America/Regina:20290730T093000
DTEND;TZID=America/Regina:20290730T093000
DTSTAMP:20260419T214551
CREATED:20260107T163825Z
LAST-MODIFIED:20260107T164858Z
UID:10000995-1880098200-1880098200@townofdelisle.com
SUMMARY:Exercise Program
DESCRIPTION:
URL:https://townofdelisle.com/event/exercise-program/2029-07-30/
LOCATION:Delisle Community Centre
CATEGORIES:Other
END:VEVENT
BEGIN:VEVENT
DTSTART;TZID=America/Regina:20290802T093000
DTEND;TZID=America/Regina:20290802T093000
DTSTAMP:20260419T214551
CREATED:20260107T163825Z
LAST-MODIFIED:20260107T164858Z
UID:10000996-1880357400-1880357400@townofdelisle.com
SUMMARY:Exercise Program
DESCRIPTION:
URL:https://townofdelisle.com/event/exercise-program/2029-08-02/
LOCATION:Delisle Community Centre
CATEGORIES:Other
END:VEVENT
BEGIN:VEVENT
DTSTART;TZID=America/Regina:20290806T093000
DTEND;TZID=America/Regina:20290806T093000
DTSTAMP:20260419T214551
CREATED:20260107T163825Z
LAST-MODIFIED:20260107T164858Z
UID:10000997-1880703000-1880703000@townofdelisle.com
SUMMARY:Exercise Program
DESCRIPTION:
URL:https://townofdelisle.com/event/exercise-program/2029-08-06/
LOCATION:Delisle Community Centre
CATEGORIES:Other
END:VEVENT
BEGIN:VEVENT
DTSTART;TZID=America/Regina:20290809T093000
DTEND;TZID=America/Regina:20290809T093000
DTSTAMP:20260419T214551
CREATED:20260107T163825Z
LAST-MODIFIED:20260107T164858Z
UID:10000998-1880962200-1880962200@townofdelisle.com
SUMMARY:Exercise Program
DESCRIPTION:
URL:https://townofdelisle.com/event/exercise-program/2029-08-09/
LOCATION:Delisle Community Centre
CATEGORIES:Other
END:VEVENT
BEGIN:VEVENT
DTSTART;TZID=America/Regina:20290813T093000
DTEND;TZID=America/Regina:20290813T093000
DTSTAMP:20260419T214551
CREATED:20260107T163825Z
LAST-MODIFIED:20260107T164858Z
UID:10000999-1881307800-1881307800@townofdelisle.com
SUMMARY:Exercise Program
DESCRIPTION:
URL:https://townofdelisle.com/event/exercise-program/2029-08-13/
LOCATION:Delisle Community Centre
CATEGORIES:Other
END:VEVENT
BEGIN:VEVENT
DTSTART;TZID=America/Regina:20290816T093000
DTEND;TZID=America/Regina:20290816T093000
DTSTAMP:20260419T214551
CREATED:20260107T163825Z
LAST-MODIFIED:20260107T164858Z
UID:10001000-1881567000-1881567000@townofdelisle.com
SUMMARY:Exercise Program
DESCRIPTION:
URL:https://townofdelisle.com/event/exercise-program/2029-08-16/
LOCATION:Delisle Community Centre
CATEGORIES:Other
END:VEVENT
BEGIN:VEVENT
DTSTART;TZID=America/Regina:20290820T093000
DTEND;TZID=America/Regina:20290820T093000
DTSTAMP:20260419T214551
CREATED:20260107T163825Z
LAST-MODIFIED:20260107T164858Z
UID:10001001-1881912600-1881912600@townofdelisle.com
SUMMARY:Exercise Program
DESCRIPTION:
URL:https://townofdelisle.com/event/exercise-program/2029-08-20/
LOCATION:Delisle Community Centre
CATEGORIES:Other
END:VEVENT
BEGIN:VEVENT
DTSTART;TZID=America/Regina:20290823T093000
DTEND;TZID=America/Regina:20290823T093000
DTSTAMP:20260419T214551
CREATED:20260107T163825Z
LAST-MODIFIED:20260107T164858Z
UID:10001002-1882171800-1882171800@townofdelisle.com
SUMMARY:Exercise Program
DESCRIPTION:
URL:https://townofdelisle.com/event/exercise-program/2029-08-23/
LOCATION:Delisle Community Centre
CATEGORIES:Other
END:VEVENT
BEGIN:VEVENT
DTSTART;TZID=America/Regina:20290827T093000
DTEND;TZID=America/Regina:20290827T093000
DTSTAMP:20260419T214551
CREATED:20260107T163825Z
LAST-MODIFIED:20260107T164858Z
UID:10001003-1882517400-1882517400@townofdelisle.com
SUMMARY:Exercise Program
DESCRIPTION:
URL:https://townofdelisle.com/event/exercise-program/2029-08-27/
LOCATION:Delisle Community Centre
CATEGORIES:Other
END:VEVENT
BEGIN:VEVENT
DTSTART;TZID=America/Regina:20290830T093000
DTEND;TZID=America/Regina:20290830T093000
DTSTAMP:20260419T214551
CREATED:20260107T163825Z
LAST-MODIFIED:20260107T164858Z
UID:10001004-1882776600-1882776600@townofdelisle.com
SUMMARY:Exercise Program
DESCRIPTION:
URL:https://townofdelisle.com/event/exercise-program/2029-08-30/
LOCATION:Delisle Community Centre
CATEGORIES:Other
END:VEVENT
BEGIN:VEVENT
DTSTART;TZID=America/Regina:20290903T093000
DTEND;TZID=America/Regina:20290903T093000
DTSTAMP:20260419T214551
CREATED:20260107T163825Z
LAST-MODIFIED:20260107T164858Z
UID:10001005-1883122200-1883122200@townofdelisle.com
SUMMARY:Exercise Program
DESCRIPTION:
URL:https://townofdelisle.com/event/exercise-program/2029-09-03/
LOCATION:Delisle Community Centre
CATEGORIES:Other
END:VEVENT
BEGIN:VEVENT
DTSTART;TZID=America/Regina:20290906T093000
DTEND;TZID=America/Regina:20290906T093000
DTSTAMP:20260419T214551
CREATED:20260107T163825Z
LAST-MODIFIED:20260107T164858Z
UID:10001006-1883381400-1883381400@townofdelisle.com
SUMMARY:Exercise Program
DESCRIPTION:
URL:https://townofdelisle.com/event/exercise-program/2029-09-06/
LOCATION:Delisle Community Centre
CATEGORIES:Other
END:VEVENT
BEGIN:VEVENT
DTSTART;TZID=America/Regina:20290910T093000
DTEND;TZID=America/Regina:20290910T093000
DTSTAMP:20260419T214551
CREATED:20260107T163825Z
LAST-MODIFIED:20260107T164858Z
UID:10001007-1883727000-1883727000@townofdelisle.com
SUMMARY:Exercise Program
DESCRIPTION:
URL:https://townofdelisle.com/event/exercise-program/2029-09-10/
LOCATION:Delisle Community Centre
CATEGORIES:Other
END:VEVENT
END:VCALENDAR