BEGIN:VCALENDAR
VERSION:2.0
PRODID:-//Town of Delisle - ECPv6.15.17.1//NONSGML v1.0//EN
CALSCALE:GREGORIAN
METHOD:PUBLISH
X-WR-CALNAME:Town of Delisle
X-ORIGINAL-URL:https://townofdelisle.com
X-WR-CALDESC:Events for Town of Delisle
REFRESH-INTERVAL;VALUE=DURATION:PT1H
X-Robots-Tag:noindex
X-PUBLISHED-TTL:PT1H
BEGIN:VTIMEZONE
TZID:America/Regina
BEGIN:STANDARD
TZOFFSETFROM:-0600
TZOFFSETTO:-0600
TZNAME:CST
DTSTART:20270101T000000
END:STANDARD
END:VTIMEZONE
BEGIN:VEVENT
DTSTART;TZID=America/Regina:20281214T093000
DTEND;TZID=America/Regina:20281214T093000
DTSTAMP:20260419T143216
CREATED:20260107T163825Z
LAST-MODIFIED:20260107T164858Z
UID:10000930-1860399000-1860399000@townofdelisle.com
SUMMARY:Exercise Program
DESCRIPTION:
URL:https://townofdelisle.com/event/exercise-program/2028-12-14/
LOCATION:Delisle Community Centre
CATEGORIES:Other
END:VEVENT
BEGIN:VEVENT
DTSTART;TZID=America/Regina:20281218T093000
DTEND;TZID=America/Regina:20281218T093000
DTSTAMP:20260419T143216
CREATED:20260107T163825Z
LAST-MODIFIED:20260107T164858Z
UID:10000931-1860744600-1860744600@townofdelisle.com
SUMMARY:Exercise Program
DESCRIPTION:
URL:https://townofdelisle.com/event/exercise-program/2028-12-18/
LOCATION:Delisle Community Centre
CATEGORIES:Other
END:VEVENT
BEGIN:VEVENT
DTSTART;TZID=America/Regina:20281221T093000
DTEND;TZID=America/Regina:20281221T093000
DTSTAMP:20260419T143216
CREATED:20260107T163825Z
LAST-MODIFIED:20260107T164858Z
UID:10000932-1861003800-1861003800@townofdelisle.com
SUMMARY:Exercise Program
DESCRIPTION:
URL:https://townofdelisle.com/event/exercise-program/2028-12-21/
LOCATION:Delisle Community Centre
CATEGORIES:Other
END:VEVENT
BEGIN:VEVENT
DTSTART;TZID=America/Regina:20281225T093000
DTEND;TZID=America/Regina:20281225T093000
DTSTAMP:20260419T143216
CREATED:20260107T163825Z
LAST-MODIFIED:20260107T164858Z
UID:10000933-1861349400-1861349400@townofdelisle.com
SUMMARY:Exercise Program
DESCRIPTION:
URL:https://townofdelisle.com/event/exercise-program/2028-12-25/
LOCATION:Delisle Community Centre
CATEGORIES:Other
END:VEVENT
BEGIN:VEVENT
DTSTART;TZID=America/Regina:20281228T093000
DTEND;TZID=America/Regina:20281228T093000
DTSTAMP:20260419T143216
CREATED:20260107T163825Z
LAST-MODIFIED:20260107T164858Z
UID:10000934-1861608600-1861608600@townofdelisle.com
SUMMARY:Exercise Program
DESCRIPTION:
URL:https://townofdelisle.com/event/exercise-program/2028-12-28/
LOCATION:Delisle Community Centre
CATEGORIES:Other
END:VEVENT
BEGIN:VEVENT
DTSTART;TZID=America/Regina:20290101T093000
DTEND;TZID=America/Regina:20290101T093000
DTSTAMP:20260419T143216
CREATED:20260107T163825Z
LAST-MODIFIED:20260107T164858Z
UID:10000935-1861954200-1861954200@townofdelisle.com
SUMMARY:Exercise Program
DESCRIPTION:
URL:https://townofdelisle.com/event/exercise-program/2029-01-01/
LOCATION:Delisle Community Centre
CATEGORIES:Other
END:VEVENT
BEGIN:VEVENT
DTSTART;TZID=America/Regina:20290104T093000
DTEND;TZID=America/Regina:20290104T093000
DTSTAMP:20260419T143216
CREATED:20260107T163825Z
LAST-MODIFIED:20260107T164858Z
UID:10000936-1862213400-1862213400@townofdelisle.com
SUMMARY:Exercise Program
DESCRIPTION:
URL:https://townofdelisle.com/event/exercise-program/2029-01-04/
LOCATION:Delisle Community Centre
CATEGORIES:Other
END:VEVENT
BEGIN:VEVENT
DTSTART;TZID=America/Regina:20290108T093000
DTEND;TZID=America/Regina:20290108T093000
DTSTAMP:20260419T143216
CREATED:20260107T163825Z
LAST-MODIFIED:20260107T164858Z
UID:10000937-1862559000-1862559000@townofdelisle.com
SUMMARY:Exercise Program
DESCRIPTION:
URL:https://townofdelisle.com/event/exercise-program/2029-01-08/
LOCATION:Delisle Community Centre
CATEGORIES:Other
END:VEVENT
BEGIN:VEVENT
DTSTART;TZID=America/Regina:20290111T093000
DTEND;TZID=America/Regina:20290111T093000
DTSTAMP:20260419T143216
CREATED:20260107T163825Z
LAST-MODIFIED:20260107T164858Z
UID:10000938-1862818200-1862818200@townofdelisle.com
SUMMARY:Exercise Program
DESCRIPTION:
URL:https://townofdelisle.com/event/exercise-program/2029-01-11/
LOCATION:Delisle Community Centre
CATEGORIES:Other
END:VEVENT
BEGIN:VEVENT
DTSTART;TZID=America/Regina:20290115T093000
DTEND;TZID=America/Regina:20290115T093000
DTSTAMP:20260419T143216
CREATED:20260107T163825Z
LAST-MODIFIED:20260107T164858Z
UID:10000939-1863163800-1863163800@townofdelisle.com
SUMMARY:Exercise Program
DESCRIPTION:
URL:https://townofdelisle.com/event/exercise-program/2029-01-15/
LOCATION:Delisle Community Centre
CATEGORIES:Other
END:VEVENT
BEGIN:VEVENT
DTSTART;TZID=America/Regina:20290118T093000
DTEND;TZID=America/Regina:20290118T093000
DTSTAMP:20260419T143216
CREATED:20260107T163825Z
LAST-MODIFIED:20260107T164858Z
UID:10000940-1863423000-1863423000@townofdelisle.com
SUMMARY:Exercise Program
DESCRIPTION:
URL:https://townofdelisle.com/event/exercise-program/2029-01-18/
LOCATION:Delisle Community Centre
CATEGORIES:Other
END:VEVENT
BEGIN:VEVENT
DTSTART;TZID=America/Regina:20290122T093000
DTEND;TZID=America/Regina:20290122T093000
DTSTAMP:20260419T143216
CREATED:20260107T163825Z
LAST-MODIFIED:20260107T164858Z
UID:10000941-1863768600-1863768600@townofdelisle.com
SUMMARY:Exercise Program
DESCRIPTION:
URL:https://townofdelisle.com/event/exercise-program/2029-01-22/
LOCATION:Delisle Community Centre
CATEGORIES:Other
END:VEVENT
BEGIN:VEVENT
DTSTART;TZID=America/Regina:20290125T093000
DTEND;TZID=America/Regina:20290125T093000
DTSTAMP:20260419T143216
CREATED:20260107T163825Z
LAST-MODIFIED:20260107T164858Z
UID:10000942-1864027800-1864027800@townofdelisle.com
SUMMARY:Exercise Program
DESCRIPTION:
URL:https://townofdelisle.com/event/exercise-program/2029-01-25/
LOCATION:Delisle Community Centre
CATEGORIES:Other
END:VEVENT
BEGIN:VEVENT
DTSTART;TZID=America/Regina:20290129T093000
DTEND;TZID=America/Regina:20290129T093000
DTSTAMP:20260419T143216
CREATED:20260107T163825Z
LAST-MODIFIED:20260107T164858Z
UID:10000943-1864373400-1864373400@townofdelisle.com
SUMMARY:Exercise Program
DESCRIPTION:
URL:https://townofdelisle.com/event/exercise-program/2029-01-29/
LOCATION:Delisle Community Centre
CATEGORIES:Other
END:VEVENT
BEGIN:VEVENT
DTSTART;TZID=America/Regina:20290201T093000
DTEND;TZID=America/Regina:20290201T093000
DTSTAMP:20260419T143216
CREATED:20260107T163825Z
LAST-MODIFIED:20260107T164858Z
UID:10000944-1864632600-1864632600@townofdelisle.com
SUMMARY:Exercise Program
DESCRIPTION:
URL:https://townofdelisle.com/event/exercise-program/2029-02-01/
LOCATION:Delisle Community Centre
CATEGORIES:Other
END:VEVENT
BEGIN:VEVENT
DTSTART;TZID=America/Regina:20290205T093000
DTEND;TZID=America/Regina:20290205T093000
DTSTAMP:20260419T143216
CREATED:20260107T163825Z
LAST-MODIFIED:20260107T164858Z
UID:10000945-1864978200-1864978200@townofdelisle.com
SUMMARY:Exercise Program
DESCRIPTION:
URL:https://townofdelisle.com/event/exercise-program/2029-02-05/
LOCATION:Delisle Community Centre
CATEGORIES:Other
END:VEVENT
BEGIN:VEVENT
DTSTART;TZID=America/Regina:20290208T093000
DTEND;TZID=America/Regina:20290208T093000
DTSTAMP:20260419T143216
CREATED:20260107T163825Z
LAST-MODIFIED:20260107T164858Z
UID:10000946-1865237400-1865237400@townofdelisle.com
SUMMARY:Exercise Program
DESCRIPTION:
URL:https://townofdelisle.com/event/exercise-program/2029-02-08/
LOCATION:Delisle Community Centre
CATEGORIES:Other
END:VEVENT
BEGIN:VEVENT
DTSTART;TZID=America/Regina:20290212T093000
DTEND;TZID=America/Regina:20290212T093000
DTSTAMP:20260419T143216
CREATED:20260107T163825Z
LAST-MODIFIED:20260107T164858Z
UID:10000947-1865583000-1865583000@townofdelisle.com
SUMMARY:Exercise Program
DESCRIPTION:
URL:https://townofdelisle.com/event/exercise-program/2029-02-12/
LOCATION:Delisle Community Centre
CATEGORIES:Other
END:VEVENT
BEGIN:VEVENT
DTSTART;TZID=America/Regina:20290215T093000
DTEND;TZID=America/Regina:20290215T093000
DTSTAMP:20260419T143216
CREATED:20260107T163825Z
LAST-MODIFIED:20260107T164858Z
UID:10000948-1865842200-1865842200@townofdelisle.com
SUMMARY:Exercise Program
DESCRIPTION:
URL:https://townofdelisle.com/event/exercise-program/2029-02-15/
LOCATION:Delisle Community Centre
CATEGORIES:Other
END:VEVENT
BEGIN:VEVENT
DTSTART;TZID=America/Regina:20290219T093000
DTEND;TZID=America/Regina:20290219T093000
DTSTAMP:20260419T143216
CREATED:20260107T163825Z
LAST-MODIFIED:20260107T164858Z
UID:10000949-1866187800-1866187800@townofdelisle.com
SUMMARY:Exercise Program
DESCRIPTION:
URL:https://townofdelisle.com/event/exercise-program/2029-02-19/
LOCATION:Delisle Community Centre
CATEGORIES:Other
END:VEVENT
BEGIN:VEVENT
DTSTART;TZID=America/Regina:20290222T093000
DTEND;TZID=America/Regina:20290222T093000
DTSTAMP:20260419T143216
CREATED:20260107T163825Z
LAST-MODIFIED:20260107T164858Z
UID:10000950-1866447000-1866447000@townofdelisle.com
SUMMARY:Exercise Program
DESCRIPTION:
URL:https://townofdelisle.com/event/exercise-program/2029-02-22/
LOCATION:Delisle Community Centre
CATEGORIES:Other
END:VEVENT
BEGIN:VEVENT
DTSTART;TZID=America/Regina:20290226T093000
DTEND;TZID=America/Regina:20290226T093000
DTSTAMP:20260419T143216
CREATED:20260107T163825Z
LAST-MODIFIED:20260107T164858Z
UID:10000951-1866792600-1866792600@townofdelisle.com
SUMMARY:Exercise Program
DESCRIPTION:
URL:https://townofdelisle.com/event/exercise-program/2029-02-26/
LOCATION:Delisle Community Centre
CATEGORIES:Other
END:VEVENT
BEGIN:VEVENT
DTSTART;TZID=America/Regina:20290301T093000
DTEND;TZID=America/Regina:20290301T093000
DTSTAMP:20260419T143216
CREATED:20260107T163825Z
LAST-MODIFIED:20260107T164858Z
UID:10000952-1867051800-1867051800@townofdelisle.com
SUMMARY:Exercise Program
DESCRIPTION:
URL:https://townofdelisle.com/event/exercise-program/2029-03-01/
LOCATION:Delisle Community Centre
CATEGORIES:Other
END:VEVENT
BEGIN:VEVENT
DTSTART;TZID=America/Regina:20290305T093000
DTEND;TZID=America/Regina:20290305T093000
DTSTAMP:20260419T143216
CREATED:20260107T163825Z
LAST-MODIFIED:20260107T164858Z
UID:10000953-1867397400-1867397400@townofdelisle.com
SUMMARY:Exercise Program
DESCRIPTION:
URL:https://townofdelisle.com/event/exercise-program/2029-03-05/
LOCATION:Delisle Community Centre
CATEGORIES:Other
END:VEVENT
BEGIN:VEVENT
DTSTART;TZID=America/Regina:20290308T093000
DTEND;TZID=America/Regina:20290308T093000
DTSTAMP:20260419T143216
CREATED:20260107T163825Z
LAST-MODIFIED:20260107T164858Z
UID:10000954-1867656600-1867656600@townofdelisle.com
SUMMARY:Exercise Program
DESCRIPTION:
URL:https://townofdelisle.com/event/exercise-program/2029-03-08/
LOCATION:Delisle Community Centre
CATEGORIES:Other
END:VEVENT
BEGIN:VEVENT
DTSTART;TZID=America/Regina:20290312T093000
DTEND;TZID=America/Regina:20290312T093000
DTSTAMP:20260419T143216
CREATED:20260107T163825Z
LAST-MODIFIED:20260107T164858Z
UID:10000955-1868002200-1868002200@townofdelisle.com
SUMMARY:Exercise Program
DESCRIPTION:
URL:https://townofdelisle.com/event/exercise-program/2029-03-12/
LOCATION:Delisle Community Centre
CATEGORIES:Other
END:VEVENT
BEGIN:VEVENT
DTSTART;TZID=America/Regina:20290315T093000
DTEND;TZID=America/Regina:20290315T093000
DTSTAMP:20260419T143216
CREATED:20260107T163825Z
LAST-MODIFIED:20260107T164858Z
UID:10000956-1868261400-1868261400@townofdelisle.com
SUMMARY:Exercise Program
DESCRIPTION:
URL:https://townofdelisle.com/event/exercise-program/2029-03-15/
LOCATION:Delisle Community Centre
CATEGORIES:Other
END:VEVENT
BEGIN:VEVENT
DTSTART;TZID=America/Regina:20290319T093000
DTEND;TZID=America/Regina:20290319T093000
DTSTAMP:20260419T143216
CREATED:20260107T163825Z
LAST-MODIFIED:20260107T164858Z
UID:10000957-1868607000-1868607000@townofdelisle.com
SUMMARY:Exercise Program
DESCRIPTION:
URL:https://townofdelisle.com/event/exercise-program/2029-03-19/
LOCATION:Delisle Community Centre
CATEGORIES:Other
END:VEVENT
BEGIN:VEVENT
DTSTART;TZID=America/Regina:20290322T093000
DTEND;TZID=America/Regina:20290322T093000
DTSTAMP:20260419T143216
CREATED:20260107T163825Z
LAST-MODIFIED:20260107T164858Z
UID:10000958-1868866200-1868866200@townofdelisle.com
SUMMARY:Exercise Program
DESCRIPTION:
URL:https://townofdelisle.com/event/exercise-program/2029-03-22/
LOCATION:Delisle Community Centre
CATEGORIES:Other
END:VEVENT
BEGIN:VEVENT
DTSTART;TZID=America/Regina:20290326T093000
DTEND;TZID=America/Regina:20290326T093000
DTSTAMP:20260419T143216
CREATED:20260107T163825Z
LAST-MODIFIED:20260107T164858Z
UID:10000959-1869211800-1869211800@townofdelisle.com
SUMMARY:Exercise Program
DESCRIPTION:
URL:https://townofdelisle.com/event/exercise-program/2029-03-26/
LOCATION:Delisle Community Centre
CATEGORIES:Other
END:VEVENT
END:VCALENDAR