BEGIN:VCALENDAR
VERSION:2.0
PRODID:-//Town of Delisle - ECPv6.15.17.1//NONSGML v1.0//EN
CALSCALE:GREGORIAN
METHOD:PUBLISH
X-ORIGINAL-URL:https://townofdelisle.com
X-WR-CALDESC:Events for Town of Delisle
REFRESH-INTERVAL;VALUE=DURATION:PT1H
X-Robots-Tag:noindex
X-PUBLISHED-TTL:PT1H
BEGIN:VTIMEZONE
TZID:America/Regina
BEGIN:STANDARD
TZOFFSETFROM:-0600
TZOFFSETTO:-0600
TZNAME:CST
DTSTART:20290101T000000
END:STANDARD
END:VTIMEZONE
BEGIN:VEVENT
DTSTART;TZID=America/Regina:20301003T093000
DTEND;TZID=America/Regina:20301003T093000
DTSTAMP:20260423T010024
CREATED:20260107T163825Z
LAST-MODIFIED:20260107T164858Z
UID:10001118-1917250200-1917250200@townofdelisle.com
SUMMARY:Exercise Program
DESCRIPTION:
URL:https://townofdelisle.com/event/exercise-program/2030-10-03/
LOCATION:Delisle Community Centre
CATEGORIES:Other
END:VEVENT
BEGIN:VEVENT
DTSTART;TZID=America/Regina:20301007T093000
DTEND;TZID=America/Regina:20301007T093000
DTSTAMP:20260423T010024
CREATED:20260107T163825Z
LAST-MODIFIED:20260107T164858Z
UID:10001119-1917595800-1917595800@townofdelisle.com
SUMMARY:Exercise Program
DESCRIPTION:
URL:https://townofdelisle.com/event/exercise-program/2030-10-07/
LOCATION:Delisle Community Centre
CATEGORIES:Other
END:VEVENT
BEGIN:VEVENT
DTSTART;TZID=America/Regina:20301010T093000
DTEND;TZID=America/Regina:20301010T093000
DTSTAMP:20260423T010024
CREATED:20260107T163825Z
LAST-MODIFIED:20260107T164858Z
UID:10001120-1917855000-1917855000@townofdelisle.com
SUMMARY:Exercise Program
DESCRIPTION:
URL:https://townofdelisle.com/event/exercise-program/2030-10-10/
LOCATION:Delisle Community Centre
CATEGORIES:Other
END:VEVENT
BEGIN:VEVENT
DTSTART;TZID=America/Regina:20301014T093000
DTEND;TZID=America/Regina:20301014T093000
DTSTAMP:20260423T010024
CREATED:20260107T163825Z
LAST-MODIFIED:20260107T164858Z
UID:10001121-1918200600-1918200600@townofdelisle.com
SUMMARY:Exercise Program
DESCRIPTION:
URL:https://townofdelisle.com/event/exercise-program/2030-10-14/
LOCATION:Delisle Community Centre
CATEGORIES:Other
END:VEVENT
BEGIN:VEVENT
DTSTART;TZID=America/Regina:20301017T093000
DTEND;TZID=America/Regina:20301017T093000
DTSTAMP:20260423T010024
CREATED:20260107T163825Z
LAST-MODIFIED:20260107T164858Z
UID:10001122-1918459800-1918459800@townofdelisle.com
SUMMARY:Exercise Program
DESCRIPTION:
URL:https://townofdelisle.com/event/exercise-program/2030-10-17/
LOCATION:Delisle Community Centre
CATEGORIES:Other
END:VEVENT
BEGIN:VEVENT
DTSTART;TZID=America/Regina:20301021T093000
DTEND;TZID=America/Regina:20301021T093000
DTSTAMP:20260423T010024
CREATED:20260107T163825Z
LAST-MODIFIED:20260107T164858Z
UID:10001123-1918805400-1918805400@townofdelisle.com
SUMMARY:Exercise Program
DESCRIPTION:
URL:https://townofdelisle.com/event/exercise-program/2030-10-21/
LOCATION:Delisle Community Centre
CATEGORIES:Other
END:VEVENT
BEGIN:VEVENT
DTSTART;TZID=America/Regina:20301024T093000
DTEND;TZID=America/Regina:20301024T093000
DTSTAMP:20260423T010024
CREATED:20260107T163825Z
LAST-MODIFIED:20260107T164858Z
UID:10001124-1919064600-1919064600@townofdelisle.com
SUMMARY:Exercise Program
DESCRIPTION:
URL:https://townofdelisle.com/event/exercise-program/2030-10-24/
LOCATION:Delisle Community Centre
CATEGORIES:Other
END:VEVENT
BEGIN:VEVENT
DTSTART;TZID=America/Regina:20301028T093000
DTEND;TZID=America/Regina:20301028T093000
DTSTAMP:20260423T010024
CREATED:20260107T163825Z
LAST-MODIFIED:20260107T164858Z
UID:10001125-1919410200-1919410200@townofdelisle.com
SUMMARY:Exercise Program
DESCRIPTION:
URL:https://townofdelisle.com/event/exercise-program/2030-10-28/
LOCATION:Delisle Community Centre
CATEGORIES:Other
END:VEVENT
BEGIN:VEVENT
DTSTART;TZID=America/Regina:20301031T093000
DTEND;TZID=America/Regina:20301031T093000
DTSTAMP:20260423T010024
CREATED:20260107T163825Z
LAST-MODIFIED:20260107T164858Z
UID:10001126-1919669400-1919669400@townofdelisle.com
SUMMARY:Exercise Program
DESCRIPTION:
URL:https://townofdelisle.com/event/exercise-program/2030-10-31/
LOCATION:Delisle Community Centre
CATEGORIES:Other
END:VEVENT
END:VCALENDAR