BEGIN:VCALENDAR
VERSION:2.0
PRODID:-//Town of Delisle - ECPv6.15.17.1//NONSGML v1.0//EN
CALSCALE:GREGORIAN
METHOD:PUBLISH
X-WR-CALNAME:Town of Delisle
X-ORIGINAL-URL:https://townofdelisle.com
X-WR-CALDESC:Events for Town of Delisle
REFRESH-INTERVAL;VALUE=DURATION:PT1H
X-Robots-Tag:noindex
X-PUBLISHED-TTL:PT1H
BEGIN:VTIMEZONE
TZID:America/Regina
BEGIN:STANDARD
TZOFFSETFROM:-0600
TZOFFSETTO:-0600
TZNAME:CST
DTSTART:20290101T000000
END:STANDARD
END:VTIMEZONE
BEGIN:VEVENT
DTSTART;TZID=America/Regina:20300902T093000
DTEND;TZID=America/Regina:20300902T093000
DTSTAMP:20260422T231917
CREATED:20260107T163825Z
LAST-MODIFIED:20260107T164858Z
UID:10001109-1914571800-1914571800@townofdelisle.com
SUMMARY:Exercise Program
DESCRIPTION:
URL:https://townofdelisle.com/event/exercise-program/2030-09-02/
LOCATION:Delisle Community Centre
CATEGORIES:Other
END:VEVENT
BEGIN:VEVENT
DTSTART;TZID=America/Regina:20300905T093000
DTEND;TZID=America/Regina:20300905T093000
DTSTAMP:20260422T231917
CREATED:20260107T163825Z
LAST-MODIFIED:20260107T164858Z
UID:10001110-1914831000-1914831000@townofdelisle.com
SUMMARY:Exercise Program
DESCRIPTION:
URL:https://townofdelisle.com/event/exercise-program/2030-09-05/
LOCATION:Delisle Community Centre
CATEGORIES:Other
END:VEVENT
BEGIN:VEVENT
DTSTART;TZID=America/Regina:20300909T093000
DTEND;TZID=America/Regina:20300909T093000
DTSTAMP:20260422T231917
CREATED:20260107T163825Z
LAST-MODIFIED:20260107T164858Z
UID:10001111-1915176600-1915176600@townofdelisle.com
SUMMARY:Exercise Program
DESCRIPTION:
URL:https://townofdelisle.com/event/exercise-program/2030-09-09/
LOCATION:Delisle Community Centre
CATEGORIES:Other
END:VEVENT
BEGIN:VEVENT
DTSTART;TZID=America/Regina:20300912T093000
DTEND;TZID=America/Regina:20300912T093000
DTSTAMP:20260422T231917
CREATED:20260107T163825Z
LAST-MODIFIED:20260107T164858Z
UID:10001112-1915435800-1915435800@townofdelisle.com
SUMMARY:Exercise Program
DESCRIPTION:
URL:https://townofdelisle.com/event/exercise-program/2030-09-12/
LOCATION:Delisle Community Centre
CATEGORIES:Other
END:VEVENT
BEGIN:VEVENT
DTSTART;TZID=America/Regina:20300916T093000
DTEND;TZID=America/Regina:20300916T093000
DTSTAMP:20260422T231917
CREATED:20260107T163825Z
LAST-MODIFIED:20260107T164858Z
UID:10001113-1915781400-1915781400@townofdelisle.com
SUMMARY:Exercise Program
DESCRIPTION:
URL:https://townofdelisle.com/event/exercise-program/2030-09-16/
LOCATION:Delisle Community Centre
CATEGORIES:Other
END:VEVENT
BEGIN:VEVENT
DTSTART;TZID=America/Regina:20300919T093000
DTEND;TZID=America/Regina:20300919T093000
DTSTAMP:20260422T231917
CREATED:20260107T163825Z
LAST-MODIFIED:20260107T164858Z
UID:10001114-1916040600-1916040600@townofdelisle.com
SUMMARY:Exercise Program
DESCRIPTION:
URL:https://townofdelisle.com/event/exercise-program/2030-09-19/
LOCATION:Delisle Community Centre
CATEGORIES:Other
END:VEVENT
BEGIN:VEVENT
DTSTART;TZID=America/Regina:20300923T093000
DTEND;TZID=America/Regina:20300923T093000
DTSTAMP:20260422T231917
CREATED:20260107T163825Z
LAST-MODIFIED:20260107T164858Z
UID:10001115-1916386200-1916386200@townofdelisle.com
SUMMARY:Exercise Program
DESCRIPTION:
URL:https://townofdelisle.com/event/exercise-program/2030-09-23/
LOCATION:Delisle Community Centre
CATEGORIES:Other
END:VEVENT
BEGIN:VEVENT
DTSTART;TZID=America/Regina:20300926T093000
DTEND;TZID=America/Regina:20300926T093000
DTSTAMP:20260422T231917
CREATED:20260107T163825Z
LAST-MODIFIED:20260107T164858Z
UID:10001116-1916645400-1916645400@townofdelisle.com
SUMMARY:Exercise Program
DESCRIPTION:
URL:https://townofdelisle.com/event/exercise-program/2030-09-26/
LOCATION:Delisle Community Centre
CATEGORIES:Other
END:VEVENT
BEGIN:VEVENT
DTSTART;TZID=America/Regina:20300930T093000
DTEND;TZID=America/Regina:20300930T093000
DTSTAMP:20260422T231917
CREATED:20260107T163825Z
LAST-MODIFIED:20260107T164858Z
UID:10001117-1916991000-1916991000@townofdelisle.com
SUMMARY:Exercise Program
DESCRIPTION:
URL:https://townofdelisle.com/event/exercise-program/2030-09-30/
LOCATION:Delisle Community Centre
CATEGORIES:Other
END:VEVENT
END:VCALENDAR