BEGIN:VCALENDAR
VERSION:2.0
PRODID:-//Town of Delisle - ECPv6.15.17.1//NONSGML v1.0//EN
CALSCALE:GREGORIAN
METHOD:PUBLISH
X-ORIGINAL-URL:https://townofdelisle.com
X-WR-CALDESC:Events for Town of Delisle
REFRESH-INTERVAL;VALUE=DURATION:PT1H
X-Robots-Tag:noindex
X-PUBLISHED-TTL:PT1H
BEGIN:VTIMEZONE
TZID:America/Regina
BEGIN:STANDARD
TZOFFSETFROM:-0600
TZOFFSETTO:-0600
TZNAME:CST
DTSTART:20290101T000000
END:STANDARD
END:VTIMEZONE
BEGIN:VEVENT
DTSTART;TZID=America/Regina:20300701T093000
DTEND;TZID=America/Regina:20300701T093000
DTSTAMP:20260422T201146
CREATED:20260107T163825Z
LAST-MODIFIED:20260107T164858Z
UID:10001091-1909128600-1909128600@townofdelisle.com
SUMMARY:Exercise Program
DESCRIPTION:
URL:https://townofdelisle.com/event/exercise-program/2030-07-01/
LOCATION:Delisle Community Centre
CATEGORIES:Other
END:VEVENT
BEGIN:VEVENT
DTSTART;TZID=America/Regina:20300704T093000
DTEND;TZID=America/Regina:20300704T093000
DTSTAMP:20260422T201146
CREATED:20260107T163825Z
LAST-MODIFIED:20260107T164858Z
UID:10001092-1909387800-1909387800@townofdelisle.com
SUMMARY:Exercise Program
DESCRIPTION:
URL:https://townofdelisle.com/event/exercise-program/2030-07-04/
LOCATION:Delisle Community Centre
CATEGORIES:Other
END:VEVENT
BEGIN:VEVENT
DTSTART;TZID=America/Regina:20300708T093000
DTEND;TZID=America/Regina:20300708T093000
DTSTAMP:20260422T201146
CREATED:20260107T163825Z
LAST-MODIFIED:20260107T164858Z
UID:10001093-1909733400-1909733400@townofdelisle.com
SUMMARY:Exercise Program
DESCRIPTION:
URL:https://townofdelisle.com/event/exercise-program/2030-07-08/
LOCATION:Delisle Community Centre
CATEGORIES:Other
END:VEVENT
BEGIN:VEVENT
DTSTART;TZID=America/Regina:20300711T093000
DTEND;TZID=America/Regina:20300711T093000
DTSTAMP:20260422T201146
CREATED:20260107T163825Z
LAST-MODIFIED:20260107T164858Z
UID:10001094-1909992600-1909992600@townofdelisle.com
SUMMARY:Exercise Program
DESCRIPTION:
URL:https://townofdelisle.com/event/exercise-program/2030-07-11/
LOCATION:Delisle Community Centre
CATEGORIES:Other
END:VEVENT
BEGIN:VEVENT
DTSTART;TZID=America/Regina:20300715T093000
DTEND;TZID=America/Regina:20300715T093000
DTSTAMP:20260422T201146
CREATED:20260107T163825Z
LAST-MODIFIED:20260107T164858Z
UID:10001095-1910338200-1910338200@townofdelisle.com
SUMMARY:Exercise Program
DESCRIPTION:
URL:https://townofdelisle.com/event/exercise-program/2030-07-15/
LOCATION:Delisle Community Centre
CATEGORIES:Other
END:VEVENT
BEGIN:VEVENT
DTSTART;TZID=America/Regina:20300718T093000
DTEND;TZID=America/Regina:20300718T093000
DTSTAMP:20260422T201146
CREATED:20260107T163825Z
LAST-MODIFIED:20260107T164858Z
UID:10001096-1910597400-1910597400@townofdelisle.com
SUMMARY:Exercise Program
DESCRIPTION:
URL:https://townofdelisle.com/event/exercise-program/2030-07-18/
LOCATION:Delisle Community Centre
CATEGORIES:Other
END:VEVENT
BEGIN:VEVENT
DTSTART;TZID=America/Regina:20300722T093000
DTEND;TZID=America/Regina:20300722T093000
DTSTAMP:20260422T201146
CREATED:20260107T163825Z
LAST-MODIFIED:20260107T164858Z
UID:10001097-1910943000-1910943000@townofdelisle.com
SUMMARY:Exercise Program
DESCRIPTION:
URL:https://townofdelisle.com/event/exercise-program/2030-07-22/
LOCATION:Delisle Community Centre
CATEGORIES:Other
END:VEVENT
BEGIN:VEVENT
DTSTART;TZID=America/Regina:20300725T093000
DTEND;TZID=America/Regina:20300725T093000
DTSTAMP:20260422T201146
CREATED:20260107T163825Z
LAST-MODIFIED:20260107T164858Z
UID:10001098-1911202200-1911202200@townofdelisle.com
SUMMARY:Exercise Program
DESCRIPTION:
URL:https://townofdelisle.com/event/exercise-program/2030-07-25/
LOCATION:Delisle Community Centre
CATEGORIES:Other
END:VEVENT
BEGIN:VEVENT
DTSTART;TZID=America/Regina:20300729T093000
DTEND;TZID=America/Regina:20300729T093000
DTSTAMP:20260422T201146
CREATED:20260107T163825Z
LAST-MODIFIED:20260107T164858Z
UID:10001099-1911547800-1911547800@townofdelisle.com
SUMMARY:Exercise Program
DESCRIPTION:
URL:https://townofdelisle.com/event/exercise-program/2030-07-29/
LOCATION:Delisle Community Centre
CATEGORIES:Other
END:VEVENT
END:VCALENDAR