BEGIN:VCALENDAR
VERSION:2.0
PRODID:-//Town of Delisle - ECPv6.15.17.1//NONSGML v1.0//EN
CALSCALE:GREGORIAN
METHOD:PUBLISH
X-WR-CALNAME:Town of Delisle
X-ORIGINAL-URL:https://townofdelisle.com
X-WR-CALDESC:Events for Town of Delisle
REFRESH-INTERVAL;VALUE=DURATION:PT1H
X-Robots-Tag:noindex
X-PUBLISHED-TTL:PT1H
BEGIN:VTIMEZONE
TZID:America/Regina
BEGIN:STANDARD
TZOFFSETFROM:-0600
TZOFFSETTO:-0600
TZNAME:CST
DTSTART:20290101T000000
END:STANDARD
END:VTIMEZONE
BEGIN:VEVENT
DTSTART;TZID=America/Regina:20300603T093000
DTEND;TZID=America/Regina:20300603T093000
DTSTAMP:20260422T182355
CREATED:20260107T163825Z
LAST-MODIFIED:20260107T164858Z
UID:10001083-1906709400-1906709400@townofdelisle.com
SUMMARY:Exercise Program
DESCRIPTION:
URL:https://townofdelisle.com/event/exercise-program/2030-06-03/
LOCATION:Delisle Community Centre
CATEGORIES:Other
END:VEVENT
BEGIN:VEVENT
DTSTART;TZID=America/Regina:20300606T093000
DTEND;TZID=America/Regina:20300606T093000
DTSTAMP:20260422T182355
CREATED:20260107T163825Z
LAST-MODIFIED:20260107T164858Z
UID:10001084-1906968600-1906968600@townofdelisle.com
SUMMARY:Exercise Program
DESCRIPTION:
URL:https://townofdelisle.com/event/exercise-program/2030-06-06/
LOCATION:Delisle Community Centre
CATEGORIES:Other
END:VEVENT
BEGIN:VEVENT
DTSTART;TZID=America/Regina:20300610T093000
DTEND;TZID=America/Regina:20300610T093000
DTSTAMP:20260422T182355
CREATED:20260107T163825Z
LAST-MODIFIED:20260107T164858Z
UID:10001085-1907314200-1907314200@townofdelisle.com
SUMMARY:Exercise Program
DESCRIPTION:
URL:https://townofdelisle.com/event/exercise-program/2030-06-10/
LOCATION:Delisle Community Centre
CATEGORIES:Other
END:VEVENT
BEGIN:VEVENT
DTSTART;TZID=America/Regina:20300613T093000
DTEND;TZID=America/Regina:20300613T093000
DTSTAMP:20260422T182355
CREATED:20260107T163825Z
LAST-MODIFIED:20260107T164858Z
UID:10001086-1907573400-1907573400@townofdelisle.com
SUMMARY:Exercise Program
DESCRIPTION:
URL:https://townofdelisle.com/event/exercise-program/2030-06-13/
LOCATION:Delisle Community Centre
CATEGORIES:Other
END:VEVENT
BEGIN:VEVENT
DTSTART;TZID=America/Regina:20300617T093000
DTEND;TZID=America/Regina:20300617T093000
DTSTAMP:20260422T182355
CREATED:20260107T163825Z
LAST-MODIFIED:20260107T164858Z
UID:10001087-1907919000-1907919000@townofdelisle.com
SUMMARY:Exercise Program
DESCRIPTION:
URL:https://townofdelisle.com/event/exercise-program/2030-06-17/
LOCATION:Delisle Community Centre
CATEGORIES:Other
END:VEVENT
BEGIN:VEVENT
DTSTART;TZID=America/Regina:20300620T093000
DTEND;TZID=America/Regina:20300620T093000
DTSTAMP:20260422T182355
CREATED:20260107T163825Z
LAST-MODIFIED:20260107T164858Z
UID:10001088-1908178200-1908178200@townofdelisle.com
SUMMARY:Exercise Program
DESCRIPTION:
URL:https://townofdelisle.com/event/exercise-program/2030-06-20/
LOCATION:Delisle Community Centre
CATEGORIES:Other
END:VEVENT
BEGIN:VEVENT
DTSTART;TZID=America/Regina:20300624T093000
DTEND;TZID=America/Regina:20300624T093000
DTSTAMP:20260422T182355
CREATED:20260107T163825Z
LAST-MODIFIED:20260107T164858Z
UID:10001089-1908523800-1908523800@townofdelisle.com
SUMMARY:Exercise Program
DESCRIPTION:
URL:https://townofdelisle.com/event/exercise-program/2030-06-24/
LOCATION:Delisle Community Centre
CATEGORIES:Other
END:VEVENT
BEGIN:VEVENT
DTSTART;TZID=America/Regina:20300627T093000
DTEND;TZID=America/Regina:20300627T093000
DTSTAMP:20260422T182355
CREATED:20260107T163825Z
LAST-MODIFIED:20260107T164858Z
UID:10001090-1908783000-1908783000@townofdelisle.com
SUMMARY:Exercise Program
DESCRIPTION:
URL:https://townofdelisle.com/event/exercise-program/2030-06-27/
LOCATION:Delisle Community Centre
CATEGORIES:Other
END:VEVENT
END:VCALENDAR