BEGIN:VCALENDAR
VERSION:2.0
PRODID:-//Town of Delisle - ECPv6.15.17.1//NONSGML v1.0//EN
CALSCALE:GREGORIAN
METHOD:PUBLISH
X-WR-CALNAME:Town of Delisle
X-ORIGINAL-URL:https://townofdelisle.com
X-WR-CALDESC:Events for Town of Delisle
REFRESH-INTERVAL;VALUE=DURATION:PT1H
X-Robots-Tag:noindex
X-PUBLISHED-TTL:PT1H
BEGIN:VTIMEZONE
TZID:America/Regina
BEGIN:STANDARD
TZOFFSETFROM:-0600
TZOFFSETTO:-0600
TZNAME:CST
DTSTART:20280101T000000
END:STANDARD
END:VTIMEZONE
BEGIN:VEVENT
DTSTART;TZID=America/Regina:20291101T093000
DTEND;TZID=America/Regina:20291101T093000
DTSTAMP:20260422T083038
CREATED:20260107T163825Z
LAST-MODIFIED:20260107T164858Z
UID:10001022-1888219800-1888219800@townofdelisle.com
SUMMARY:Exercise Program
DESCRIPTION:
URL:https://townofdelisle.com/event/exercise-program/2029-11-01/
LOCATION:Delisle Community Centre
CATEGORIES:Other
END:VEVENT
BEGIN:VEVENT
DTSTART;TZID=America/Regina:20291105T093000
DTEND;TZID=America/Regina:20291105T093000
DTSTAMP:20260422T083038
CREATED:20260107T163825Z
LAST-MODIFIED:20260107T164858Z
UID:10001023-1888565400-1888565400@townofdelisle.com
SUMMARY:Exercise Program
DESCRIPTION:
URL:https://townofdelisle.com/event/exercise-program/2029-11-05/
LOCATION:Delisle Community Centre
CATEGORIES:Other
END:VEVENT
BEGIN:VEVENT
DTSTART;TZID=America/Regina:20291108T093000
DTEND;TZID=America/Regina:20291108T093000
DTSTAMP:20260422T083038
CREATED:20260107T163825Z
LAST-MODIFIED:20260107T164858Z
UID:10001024-1888824600-1888824600@townofdelisle.com
SUMMARY:Exercise Program
DESCRIPTION:
URL:https://townofdelisle.com/event/exercise-program/2029-11-08/
LOCATION:Delisle Community Centre
CATEGORIES:Other
END:VEVENT
BEGIN:VEVENT
DTSTART;TZID=America/Regina:20291112T093000
DTEND;TZID=America/Regina:20291112T093000
DTSTAMP:20260422T083038
CREATED:20260107T163825Z
LAST-MODIFIED:20260107T164858Z
UID:10001025-1889170200-1889170200@townofdelisle.com
SUMMARY:Exercise Program
DESCRIPTION:
URL:https://townofdelisle.com/event/exercise-program/2029-11-12/
LOCATION:Delisle Community Centre
CATEGORIES:Other
END:VEVENT
BEGIN:VEVENT
DTSTART;TZID=America/Regina:20291115T093000
DTEND;TZID=America/Regina:20291115T093000
DTSTAMP:20260422T083038
CREATED:20260107T163825Z
LAST-MODIFIED:20260107T164858Z
UID:10001026-1889429400-1889429400@townofdelisle.com
SUMMARY:Exercise Program
DESCRIPTION:
URL:https://townofdelisle.com/event/exercise-program/2029-11-15/
LOCATION:Delisle Community Centre
CATEGORIES:Other
END:VEVENT
BEGIN:VEVENT
DTSTART;TZID=America/Regina:20291119T093000
DTEND;TZID=America/Regina:20291119T093000
DTSTAMP:20260422T083038
CREATED:20260107T163825Z
LAST-MODIFIED:20260107T164858Z
UID:10001027-1889775000-1889775000@townofdelisle.com
SUMMARY:Exercise Program
DESCRIPTION:
URL:https://townofdelisle.com/event/exercise-program/2029-11-19/
LOCATION:Delisle Community Centre
CATEGORIES:Other
END:VEVENT
BEGIN:VEVENT
DTSTART;TZID=America/Regina:20291122T093000
DTEND;TZID=America/Regina:20291122T093000
DTSTAMP:20260422T083038
CREATED:20260107T163825Z
LAST-MODIFIED:20260107T164858Z
UID:10001028-1890034200-1890034200@townofdelisle.com
SUMMARY:Exercise Program
DESCRIPTION:
URL:https://townofdelisle.com/event/exercise-program/2029-11-22/
LOCATION:Delisle Community Centre
CATEGORIES:Other
END:VEVENT
BEGIN:VEVENT
DTSTART;TZID=America/Regina:20291126T093000
DTEND;TZID=America/Regina:20291126T093000
DTSTAMP:20260422T083038
CREATED:20260107T163825Z
LAST-MODIFIED:20260107T164858Z
UID:10001029-1890379800-1890379800@townofdelisle.com
SUMMARY:Exercise Program
DESCRIPTION:
URL:https://townofdelisle.com/event/exercise-program/2029-11-26/
LOCATION:Delisle Community Centre
CATEGORIES:Other
END:VEVENT
BEGIN:VEVENT
DTSTART;TZID=America/Regina:20291129T093000
DTEND;TZID=America/Regina:20291129T093000
DTSTAMP:20260422T083038
CREATED:20260107T163825Z
LAST-MODIFIED:20260107T164858Z
UID:10001030-1890639000-1890639000@townofdelisle.com
SUMMARY:Exercise Program
DESCRIPTION:
URL:https://townofdelisle.com/event/exercise-program/2029-11-29/
LOCATION:Delisle Community Centre
CATEGORIES:Other
END:VEVENT
END:VCALENDAR