BEGIN:VCALENDAR
VERSION:2.0
PRODID:-//Town of Delisle - ECPv6.15.17.1//NONSGML v1.0//EN
CALSCALE:GREGORIAN
METHOD:PUBLISH
X-ORIGINAL-URL:https://townofdelisle.com
X-WR-CALDESC:Events for Town of Delisle
REFRESH-INTERVAL;VALUE=DURATION:PT1H
X-Robots-Tag:noindex
X-PUBLISHED-TTL:PT1H
BEGIN:VTIMEZONE
TZID:America/Regina
BEGIN:STANDARD
TZOFFSETFROM:-0600
TZOFFSETTO:-0600
TZNAME:CST
DTSTART:20280101T000000
END:STANDARD
END:VTIMEZONE
BEGIN:VEVENT
DTSTART;TZID=America/Regina:20290903T093000
DTEND;TZID=America/Regina:20290903T093000
DTSTAMP:20260422T054010
CREATED:20260107T163825Z
LAST-MODIFIED:20260107T164858Z
UID:10001005-1883122200-1883122200@townofdelisle.com
SUMMARY:Exercise Program
DESCRIPTION:
URL:https://townofdelisle.com/event/exercise-program/2029-09-03/
LOCATION:Delisle Community Centre
CATEGORIES:Other
END:VEVENT
BEGIN:VEVENT
DTSTART;TZID=America/Regina:20290906T093000
DTEND;TZID=America/Regina:20290906T093000
DTSTAMP:20260422T054010
CREATED:20260107T163825Z
LAST-MODIFIED:20260107T164858Z
UID:10001006-1883381400-1883381400@townofdelisle.com
SUMMARY:Exercise Program
DESCRIPTION:
URL:https://townofdelisle.com/event/exercise-program/2029-09-06/
LOCATION:Delisle Community Centre
CATEGORIES:Other
END:VEVENT
BEGIN:VEVENT
DTSTART;TZID=America/Regina:20290910T093000
DTEND;TZID=America/Regina:20290910T093000
DTSTAMP:20260422T054010
CREATED:20260107T163825Z
LAST-MODIFIED:20260107T164858Z
UID:10001007-1883727000-1883727000@townofdelisle.com
SUMMARY:Exercise Program
DESCRIPTION:
URL:https://townofdelisle.com/event/exercise-program/2029-09-10/
LOCATION:Delisle Community Centre
CATEGORIES:Other
END:VEVENT
BEGIN:VEVENT
DTSTART;TZID=America/Regina:20290913T093000
DTEND;TZID=America/Regina:20290913T093000
DTSTAMP:20260422T054010
CREATED:20260107T163825Z
LAST-MODIFIED:20260107T164858Z
UID:10001008-1883986200-1883986200@townofdelisle.com
SUMMARY:Exercise Program
DESCRIPTION:
URL:https://townofdelisle.com/event/exercise-program/2029-09-13/
LOCATION:Delisle Community Centre
CATEGORIES:Other
END:VEVENT
BEGIN:VEVENT
DTSTART;TZID=America/Regina:20290917T093000
DTEND;TZID=America/Regina:20290917T093000
DTSTAMP:20260422T054010
CREATED:20260107T163825Z
LAST-MODIFIED:20260107T164858Z
UID:10001009-1884331800-1884331800@townofdelisle.com
SUMMARY:Exercise Program
DESCRIPTION:
URL:https://townofdelisle.com/event/exercise-program/2029-09-17/
LOCATION:Delisle Community Centre
CATEGORIES:Other
END:VEVENT
BEGIN:VEVENT
DTSTART;TZID=America/Regina:20290920T093000
DTEND;TZID=America/Regina:20290920T093000
DTSTAMP:20260422T054010
CREATED:20260107T163825Z
LAST-MODIFIED:20260107T164858Z
UID:10001010-1884591000-1884591000@townofdelisle.com
SUMMARY:Exercise Program
DESCRIPTION:
URL:https://townofdelisle.com/event/exercise-program/2029-09-20/
LOCATION:Delisle Community Centre
CATEGORIES:Other
END:VEVENT
BEGIN:VEVENT
DTSTART;TZID=America/Regina:20290924T093000
DTEND;TZID=America/Regina:20290924T093000
DTSTAMP:20260422T054010
CREATED:20260107T163825Z
LAST-MODIFIED:20260107T164858Z
UID:10001011-1884936600-1884936600@townofdelisle.com
SUMMARY:Exercise Program
DESCRIPTION:
URL:https://townofdelisle.com/event/exercise-program/2029-09-24/
LOCATION:Delisle Community Centre
CATEGORIES:Other
END:VEVENT
BEGIN:VEVENT
DTSTART;TZID=America/Regina:20290927T093000
DTEND;TZID=America/Regina:20290927T093000
DTSTAMP:20260422T054010
CREATED:20260107T163825Z
LAST-MODIFIED:20260107T164858Z
UID:10001012-1885195800-1885195800@townofdelisle.com
SUMMARY:Exercise Program
DESCRIPTION:
URL:https://townofdelisle.com/event/exercise-program/2029-09-27/
LOCATION:Delisle Community Centre
CATEGORIES:Other
END:VEVENT
END:VCALENDAR