BEGIN:VCALENDAR
VERSION:2.0
PRODID:-//Town of Delisle - ECPv6.15.17.1//NONSGML v1.0//EN
CALSCALE:GREGORIAN
METHOD:PUBLISH
X-ORIGINAL-URL:https://townofdelisle.com
X-WR-CALDESC:Events for Town of Delisle
REFRESH-INTERVAL;VALUE=DURATION:PT1H
X-Robots-Tag:noindex
X-PUBLISHED-TTL:PT1H
BEGIN:VTIMEZONE
TZID:America/Regina
BEGIN:STANDARD
TZOFFSETFROM:-0600
TZOFFSETTO:-0600
TZNAME:CST
DTSTART:20280101T000000
END:STANDARD
END:VTIMEZONE
BEGIN:VEVENT
DTSTART;TZID=America/Regina:20290301T093000
DTEND;TZID=America/Regina:20290301T093000
DTSTAMP:20260421T195550
CREATED:20260107T163825Z
LAST-MODIFIED:20260107T164858Z
UID:10000952-1867051800-1867051800@townofdelisle.com
SUMMARY:Exercise Program
DESCRIPTION:
URL:https://townofdelisle.com/event/exercise-program/2029-03-01/
LOCATION:Delisle Community Centre
CATEGORIES:Other
END:VEVENT
BEGIN:VEVENT
DTSTART;TZID=America/Regina:20290305T093000
DTEND;TZID=America/Regina:20290305T093000
DTSTAMP:20260421T195550
CREATED:20260107T163825Z
LAST-MODIFIED:20260107T164858Z
UID:10000953-1867397400-1867397400@townofdelisle.com
SUMMARY:Exercise Program
DESCRIPTION:
URL:https://townofdelisle.com/event/exercise-program/2029-03-05/
LOCATION:Delisle Community Centre
CATEGORIES:Other
END:VEVENT
BEGIN:VEVENT
DTSTART;TZID=America/Regina:20290308T093000
DTEND;TZID=America/Regina:20290308T093000
DTSTAMP:20260421T195550
CREATED:20260107T163825Z
LAST-MODIFIED:20260107T164858Z
UID:10000954-1867656600-1867656600@townofdelisle.com
SUMMARY:Exercise Program
DESCRIPTION:
URL:https://townofdelisle.com/event/exercise-program/2029-03-08/
LOCATION:Delisle Community Centre
CATEGORIES:Other
END:VEVENT
BEGIN:VEVENT
DTSTART;TZID=America/Regina:20290312T093000
DTEND;TZID=America/Regina:20290312T093000
DTSTAMP:20260421T195550
CREATED:20260107T163825Z
LAST-MODIFIED:20260107T164858Z
UID:10000955-1868002200-1868002200@townofdelisle.com
SUMMARY:Exercise Program
DESCRIPTION:
URL:https://townofdelisle.com/event/exercise-program/2029-03-12/
LOCATION:Delisle Community Centre
CATEGORIES:Other
END:VEVENT
BEGIN:VEVENT
DTSTART;TZID=America/Regina:20290315T093000
DTEND;TZID=America/Regina:20290315T093000
DTSTAMP:20260421T195550
CREATED:20260107T163825Z
LAST-MODIFIED:20260107T164858Z
UID:10000956-1868261400-1868261400@townofdelisle.com
SUMMARY:Exercise Program
DESCRIPTION:
URL:https://townofdelisle.com/event/exercise-program/2029-03-15/
LOCATION:Delisle Community Centre
CATEGORIES:Other
END:VEVENT
BEGIN:VEVENT
DTSTART;TZID=America/Regina:20290319T093000
DTEND;TZID=America/Regina:20290319T093000
DTSTAMP:20260421T195550
CREATED:20260107T163825Z
LAST-MODIFIED:20260107T164858Z
UID:10000957-1868607000-1868607000@townofdelisle.com
SUMMARY:Exercise Program
DESCRIPTION:
URL:https://townofdelisle.com/event/exercise-program/2029-03-19/
LOCATION:Delisle Community Centre
CATEGORIES:Other
END:VEVENT
BEGIN:VEVENT
DTSTART;TZID=America/Regina:20290322T093000
DTEND;TZID=America/Regina:20290322T093000
DTSTAMP:20260421T195550
CREATED:20260107T163825Z
LAST-MODIFIED:20260107T164858Z
UID:10000958-1868866200-1868866200@townofdelisle.com
SUMMARY:Exercise Program
DESCRIPTION:
URL:https://townofdelisle.com/event/exercise-program/2029-03-22/
LOCATION:Delisle Community Centre
CATEGORIES:Other
END:VEVENT
BEGIN:VEVENT
DTSTART;TZID=America/Regina:20290326T093000
DTEND;TZID=America/Regina:20290326T093000
DTSTAMP:20260421T195550
CREATED:20260107T163825Z
LAST-MODIFIED:20260107T164858Z
UID:10000959-1869211800-1869211800@townofdelisle.com
SUMMARY:Exercise Program
DESCRIPTION:
URL:https://townofdelisle.com/event/exercise-program/2029-03-26/
LOCATION:Delisle Community Centre
CATEGORIES:Other
END:VEVENT
BEGIN:VEVENT
DTSTART;TZID=America/Regina:20290329T093000
DTEND;TZID=America/Regina:20290329T093000
DTSTAMP:20260421T195550
CREATED:20260107T163825Z
LAST-MODIFIED:20260107T164858Z
UID:10000960-1869471000-1869471000@townofdelisle.com
SUMMARY:Exercise Program
DESCRIPTION:
URL:https://townofdelisle.com/event/exercise-program/2029-03-29/
LOCATION:Delisle Community Centre
CATEGORIES:Other
END:VEVENT
END:VCALENDAR