BEGIN:VCALENDAR
VERSION:2.0
PRODID:-//Town of Delisle - ECPv6.15.17.1//NONSGML v1.0//EN
CALSCALE:GREGORIAN
METHOD:PUBLISH
X-WR-CALNAME:Town of Delisle
X-ORIGINAL-URL:https://townofdelisle.com
X-WR-CALDESC:Events for Town of Delisle
REFRESH-INTERVAL;VALUE=DURATION:PT1H
X-Robots-Tag:noindex
X-PUBLISHED-TTL:PT1H
BEGIN:VTIMEZONE
TZID:America/Regina
BEGIN:STANDARD
TZOFFSETFROM:-0600
TZOFFSETTO:-0600
TZNAME:CST
DTSTART:20270101T000000
END:STANDARD
END:VTIMEZONE
BEGIN:VEVENT
DTSTART;TZID=America/Regina:20281204T093000
DTEND;TZID=America/Regina:20281204T093000
DTSTAMP:20260421T144940
CREATED:20260107T163825Z
LAST-MODIFIED:20260107T164858Z
UID:10000927-1859535000-1859535000@townofdelisle.com
SUMMARY:Exercise Program
DESCRIPTION:
URL:https://townofdelisle.com/event/exercise-program/2028-12-04/
LOCATION:Delisle Community Centre
CATEGORIES:Other
END:VEVENT
BEGIN:VEVENT
DTSTART;TZID=America/Regina:20281207T093000
DTEND;TZID=America/Regina:20281207T093000
DTSTAMP:20260421T144940
CREATED:20260107T163825Z
LAST-MODIFIED:20260107T164858Z
UID:10000928-1859794200-1859794200@townofdelisle.com
SUMMARY:Exercise Program
DESCRIPTION:
URL:https://townofdelisle.com/event/exercise-program/2028-12-07/
LOCATION:Delisle Community Centre
CATEGORIES:Other
END:VEVENT
BEGIN:VEVENT
DTSTART;TZID=America/Regina:20281211T093000
DTEND;TZID=America/Regina:20281211T093000
DTSTAMP:20260421T144940
CREATED:20260107T163825Z
LAST-MODIFIED:20260107T164858Z
UID:10000929-1860139800-1860139800@townofdelisle.com
SUMMARY:Exercise Program
DESCRIPTION:
URL:https://townofdelisle.com/event/exercise-program/2028-12-11/
LOCATION:Delisle Community Centre
CATEGORIES:Other
END:VEVENT
BEGIN:VEVENT
DTSTART;TZID=America/Regina:20281214T093000
DTEND;TZID=America/Regina:20281214T093000
DTSTAMP:20260421T144940
CREATED:20260107T163825Z
LAST-MODIFIED:20260107T164858Z
UID:10000930-1860399000-1860399000@townofdelisle.com
SUMMARY:Exercise Program
DESCRIPTION:
URL:https://townofdelisle.com/event/exercise-program/2028-12-14/
LOCATION:Delisle Community Centre
CATEGORIES:Other
END:VEVENT
BEGIN:VEVENT
DTSTART;TZID=America/Regina:20281218T093000
DTEND;TZID=America/Regina:20281218T093000
DTSTAMP:20260421T144940
CREATED:20260107T163825Z
LAST-MODIFIED:20260107T164858Z
UID:10000931-1860744600-1860744600@townofdelisle.com
SUMMARY:Exercise Program
DESCRIPTION:
URL:https://townofdelisle.com/event/exercise-program/2028-12-18/
LOCATION:Delisle Community Centre
CATEGORIES:Other
END:VEVENT
BEGIN:VEVENT
DTSTART;TZID=America/Regina:20281221T093000
DTEND;TZID=America/Regina:20281221T093000
DTSTAMP:20260421T144940
CREATED:20260107T163825Z
LAST-MODIFIED:20260107T164858Z
UID:10000932-1861003800-1861003800@townofdelisle.com
SUMMARY:Exercise Program
DESCRIPTION:
URL:https://townofdelisle.com/event/exercise-program/2028-12-21/
LOCATION:Delisle Community Centre
CATEGORIES:Other
END:VEVENT
BEGIN:VEVENT
DTSTART;TZID=America/Regina:20281225T093000
DTEND;TZID=America/Regina:20281225T093000
DTSTAMP:20260421T144940
CREATED:20260107T163825Z
LAST-MODIFIED:20260107T164858Z
UID:10000933-1861349400-1861349400@townofdelisle.com
SUMMARY:Exercise Program
DESCRIPTION:
URL:https://townofdelisle.com/event/exercise-program/2028-12-25/
LOCATION:Delisle Community Centre
CATEGORIES:Other
END:VEVENT
BEGIN:VEVENT
DTSTART;TZID=America/Regina:20281228T093000
DTEND;TZID=America/Regina:20281228T093000
DTSTAMP:20260421T144940
CREATED:20260107T163825Z
LAST-MODIFIED:20260107T164858Z
UID:10000934-1861608600-1861608600@townofdelisle.com
SUMMARY:Exercise Program
DESCRIPTION:
URL:https://townofdelisle.com/event/exercise-program/2028-12-28/
LOCATION:Delisle Community Centre
CATEGORIES:Other
END:VEVENT
END:VCALENDAR