BEGIN:VCALENDAR
VERSION:2.0
PRODID:-//Town of Delisle - ECPv6.15.17.1//NONSGML v1.0//EN
CALSCALE:GREGORIAN
METHOD:PUBLISH
X-WR-CALNAME:Town of Delisle
X-ORIGINAL-URL:https://townofdelisle.com
X-WR-CALDESC:Events for Town of Delisle
REFRESH-INTERVAL;VALUE=DURATION:PT1H
X-Robots-Tag:noindex
X-PUBLISHED-TTL:PT1H
BEGIN:VTIMEZONE
TZID:America/Regina
BEGIN:STANDARD
TZOFFSETFROM:-0600
TZOFFSETTO:-0600
TZNAME:CST
DTSTART:20270101T000000
END:STANDARD
END:VTIMEZONE
BEGIN:VEVENT
DTSTART;TZID=America/Regina:20280703T093000
DTEND;TZID=America/Regina:20280703T093000
DTSTAMP:20260421T065717
CREATED:20260107T163825Z
LAST-MODIFIED:20260107T164858Z
UID:10000883-1846229400-1846229400@townofdelisle.com
SUMMARY:Exercise Program
DESCRIPTION:
URL:https://townofdelisle.com/event/exercise-program/2028-07-03/
LOCATION:Delisle Community Centre
CATEGORIES:Other
END:VEVENT
BEGIN:VEVENT
DTSTART;TZID=America/Regina:20280706T093000
DTEND;TZID=America/Regina:20280706T093000
DTSTAMP:20260421T065717
CREATED:20260107T163825Z
LAST-MODIFIED:20260107T164858Z
UID:10000884-1846488600-1846488600@townofdelisle.com
SUMMARY:Exercise Program
DESCRIPTION:
URL:https://townofdelisle.com/event/exercise-program/2028-07-06/
LOCATION:Delisle Community Centre
CATEGORIES:Other
END:VEVENT
BEGIN:VEVENT
DTSTART;TZID=America/Regina:20280710T093000
DTEND;TZID=America/Regina:20280710T093000
DTSTAMP:20260421T065717
CREATED:20260107T163825Z
LAST-MODIFIED:20260107T164858Z
UID:10000885-1846834200-1846834200@townofdelisle.com
SUMMARY:Exercise Program
DESCRIPTION:
URL:https://townofdelisle.com/event/exercise-program/2028-07-10/
LOCATION:Delisle Community Centre
CATEGORIES:Other
END:VEVENT
BEGIN:VEVENT
DTSTART;TZID=America/Regina:20280713T093000
DTEND;TZID=America/Regina:20280713T093000
DTSTAMP:20260421T065717
CREATED:20260107T163825Z
LAST-MODIFIED:20260107T164858Z
UID:10000886-1847093400-1847093400@townofdelisle.com
SUMMARY:Exercise Program
DESCRIPTION:
URL:https://townofdelisle.com/event/exercise-program/2028-07-13/
LOCATION:Delisle Community Centre
CATEGORIES:Other
END:VEVENT
BEGIN:VEVENT
DTSTART;TZID=America/Regina:20280717T093000
DTEND;TZID=America/Regina:20280717T093000
DTSTAMP:20260421T065717
CREATED:20260107T163825Z
LAST-MODIFIED:20260107T164858Z
UID:10000887-1847439000-1847439000@townofdelisle.com
SUMMARY:Exercise Program
DESCRIPTION:
URL:https://townofdelisle.com/event/exercise-program/2028-07-17/
LOCATION:Delisle Community Centre
CATEGORIES:Other
END:VEVENT
BEGIN:VEVENT
DTSTART;TZID=America/Regina:20280720T093000
DTEND;TZID=America/Regina:20280720T093000
DTSTAMP:20260421T065717
CREATED:20260107T163825Z
LAST-MODIFIED:20260107T164858Z
UID:10000888-1847698200-1847698200@townofdelisle.com
SUMMARY:Exercise Program
DESCRIPTION:
URL:https://townofdelisle.com/event/exercise-program/2028-07-20/
LOCATION:Delisle Community Centre
CATEGORIES:Other
END:VEVENT
BEGIN:VEVENT
DTSTART;TZID=America/Regina:20280724T093000
DTEND;TZID=America/Regina:20280724T093000
DTSTAMP:20260421T065717
CREATED:20260107T163825Z
LAST-MODIFIED:20260107T164858Z
UID:10000889-1848043800-1848043800@townofdelisle.com
SUMMARY:Exercise Program
DESCRIPTION:
URL:https://townofdelisle.com/event/exercise-program/2028-07-24/
LOCATION:Delisle Community Centre
CATEGORIES:Other
END:VEVENT
BEGIN:VEVENT
DTSTART;TZID=America/Regina:20280727T093000
DTEND;TZID=America/Regina:20280727T093000
DTSTAMP:20260421T065717
CREATED:20260107T163825Z
LAST-MODIFIED:20260107T164858Z
UID:10000890-1848303000-1848303000@townofdelisle.com
SUMMARY:Exercise Program
DESCRIPTION:
URL:https://townofdelisle.com/event/exercise-program/2028-07-27/
LOCATION:Delisle Community Centre
CATEGORIES:Other
END:VEVENT
BEGIN:VEVENT
DTSTART;TZID=America/Regina:20280731T093000
DTEND;TZID=America/Regina:20280731T093000
DTSTAMP:20260421T065717
CREATED:20260107T163825Z
LAST-MODIFIED:20260107T164858Z
UID:10000891-1848648600-1848648600@townofdelisle.com
SUMMARY:Exercise Program
DESCRIPTION:
URL:https://townofdelisle.com/event/exercise-program/2028-07-31/
LOCATION:Delisle Community Centre
CATEGORIES:Other
END:VEVENT
END:VCALENDAR